BEGIN:VCALENDAR
VERSION:2.0
PRODID:-//ChamberMaster//Event Calendar 2.0//EN
METHOD:PUBLISH
X-PUBLISHED-TTL:P3D
REFRESH-INTERVAL:P3D
CALSCALE:GREGORIAN
BEGIN:VEVENT
DTSTART:20240226T230000Z
DTEND:20240227T010000Z
X-MICROSOFT-CDO-ALLDAYEVENT:FALSE
SUMMARY:10 Sessions to a Business Plan
DESCRIPTION:Do you have an idea for a business that you want to launch or explore more deeply? Have you always dreamed of becoming an entrepreneur\, but were never sure just where to start?\n\nThis course will help you to take the necessary steps to becoming an independent business owner\, while gaining confidence in yourself and your knowledge of small business management.\n\n \n\nIn this accelerated business planning course\, you will:\n\n\n	Explore and assess the market and financial viability of your business concept\n	Learn how to market yourself and your business to target customers\n	Explore options for funding the costs of operating your business\n	Actively participate in class time and in one-on-one consulting sessions\n	Build a network of fellow entrepreneurs that can support you in launching and growing your new enterprise.\n	At the end of this program\, you will leave with a completed business plan to guide you in the launch and growth of your new company.
X-ALT-DESC;FMTTYPE=text/html:<p><span style="font-size:12pt">Do you have an idea for a business that you want to launch or explore more deeply? Have you always dreamed of becoming an entrepreneur\, but were never sure just where to start?</span></p>\n\n<p><span style="font-size:12pt">This course will help you to take the necessary steps to becoming an independent business owner\, while gaining confidence in yourself and your knowledge of small business management.</span></p>\n\n<p>&nbsp\;</p>\n\n<p><span style="font-size:12pt">In this accelerated business planning course\, you will:</span></p>\n\n<ul>\n	<li><span style="font-size:12pt">Explore and assess the market and financial viability of your business concept</span></li>\n	<li><span style="font-size:12pt">Learn how to market yourself and your business to target customers</span></li>\n	<li><span style="font-size:12pt">Explore options for funding the costs of operating your business</span></li>\n	<li><span style="font-size:12pt">Actively participate in class time and in one-on-one consulting sessions</span></li>\n	<li><span style="font-size:12pt">Build a network of fellow entrepreneurs that can support you in launching and growing your new enterprise.</span></li>\n	<li><span style="font-size:12pt">At the end of this program\, you will leave with a completed business plan to guide you in the launch and growth of your new company.</span></li>\n</ul>\n
LOCATION:Virtual
UID:e.2083.17246
SEQUENCE:3
DTSTAMP:20260420T102412Z
URL:https://business.cmschamber.org/events/details/10-sessions-to-a-business-plan-17246
END:VEVENT

END:VCALENDAR
