BEGIN:VCALENDAR
VERSION:2.0
PRODID:-//ChamberMaster//Event Calendar 2.0//EN
METHOD:PUBLISH
X-PUBLISHED-TTL:P3D
REFRESH-INTERVAL:P3D
CALSCALE:GREGORIAN
BEGIN:VEVENT
DTSTART:20230209T223000Z
DTEND:20230210T030000Z
X-MICROSOFT-CDO-ALLDAYEVENT:FALSE
SUMMARY:10th Annual Kids at Heart Gala
DESCRIPTION:Since 2002\, LUK Mentoring has been pairing caring\, concerned role models with youth throughout Worcester County who benefit from additional adult support. Our Gala is open to the public and we are looking forward to having you join us and becoming a chapter in our LUK mentoring story! We will be providing dinner\, live & silent auction\, dancing\, and entertainment.
X-ALT-DESC;FMTTYPE=text/html:<span style="background-color:rgb(255\, 255\, 255)\; color:rgb(51\, 51\, 51)\; font-family:arial\,helvetica\,sans-serif\; font-size:16px"><span style="font-size:14px">Since 2002\, LUK Mentoring has been pairing caring\, concerned role models with youth throughout Worcester County who benefit from additional adult support. Our Gala is open to the public and we are looking forward to having you join us and becoming a chapter in our LUK mentoring story! We will be providing dinner\, live &amp\; silent auction\, dancing\, and entertainment.</span>&nbsp\;</span>
LOCATION:Great Wolf Lodge 150 Great Wolf Drive Fitchburg\, MA 01420
UID:e.2083.14996
SEQUENCE:3
DTSTAMP:20260421T093321Z
URL:https://business.cmschamber.org/events/details/10th-annual-kids-at-heart-gala-14996
END:VEVENT

END:VCALENDAR
