BEGIN:VCALENDAR
VERSION:2.0
PRODID:-//ChamberMaster//Event Calendar 2.0//EN
METHOD:PUBLISH
X-PUBLISHED-TTL:P3D
REFRESH-INTERVAL:P3D
CALSCALE:GREGORIAN
BEGIN:VEVENT
DTSTART:20230623T130000Z
DTEND:20230623T190000Z
X-MICROSOFT-CDO-ALLDAYEVENT:FALSE
SUMMARY:18th Annual Stand Down
DESCRIPTION:WHAT IS STAND DOWN? When the military population draws down\, the veteran population goes up. Although the economy is improving\, our veterans are always in need of the right jobs\, housing\, and healthcare.\n\n \n\nThis event is intended for veteran attendees and their guests.\n\n \n\nThrough our Stand Down Initiative\, we connect veterans with the assistance programs they need to live healthy and fulfilling civilian lives. We have over 60 service providers from all walks of life   both public and private sector   ready to accommodate our veterans' needs. We got here by relying on the outstanding generosity and dedication of our community.\n\n \n\nIf you'd like to help support our veterans\, register for Stand Down at the link: www.veteransinc.org/events/stand-down/
X-ALT-DESC;FMTTYPE=text/html:<div><strong><span style="color:#B22222">WHAT IS STAND DOWN?</span> </strong>When the military population draws down\, the veteran population goes up. Although the economy is improving\, our veterans are always in need of the right jobs\, housing\, and healthcare.<br />\n&nbsp\;</div>\n\n<div><strong>This event is intended for veteran attendees and their guests.</strong><br />\n&nbsp\;</div>\n\n<div><span style="color:#B22222"><strong>Through our Stand Down Initiative\, we connect veterans with the assistance programs they need to live healthy and fulfilling civilian lives.</strong></span> We have over 60 service providers from all walks of life &ndash\; both public and private sector &ndash\; ready to accommodate our veterans&rsquo\; needs. We got here by relying on the outstanding generosity and dedication of our community.<br />\n&nbsp\;</div>\n\n<div>If you&rsquo\;d like to help support our veterans\, register for Stand Down at the link:&nbsp\;<strong><a class="x1i10hfl xjbqb8w x6umtig x1b1mbwd xaqea5y xav7gou x9f619 x1ypdohk xt0psk2 xe8uvvx xdj266r x11i5rnm xat24cr x1mh8g0r xexx8yu x4uap5 x18d9i69 xkhd6sd x16tdsg8 x1hl2dhg xggy1nq x1a2a7pz xt0b8zv x1fey0fg" href="http://www.veteransinc.org/events/stand-down/?fbclid=IwAR19Qqw7b8XxM7kOzCG1sN_0CvExz3c57B9wigdjCI45hbPNI6RJwygUNSs" rel="nofollow noopener" style="color: var(--blue-link)\; cursor: pointer\; text-decoration-line: none\; margin: 0px\; text-align: inherit\; padding: 0px\; outline: none\; border-width: 0px\; border-style: initial\; border-color: initial\; -webkit-tap-highlight-color: transparent\; box-sizing: border-box\; list-style: none\; touch-action: manipulation\; background-color: transparent\; display: inline\; font-family: inherit\;" tabindex="0" target="_blank"><span style="color:#B22222">www.veteransinc.org/events/stand-down/</span></a><span style="color:#B22222">&nbsp\;</span></strong></div>\n
LOCATION:Veterans Inc. 69 Grove St Worcester\, MA 01605
UID:e.2083.15926
SEQUENCE:3
DTSTAMP:20260421T004629Z
URL:https://business.cmschamber.org/events/details/18th-annual-stand-down-15926
END:VEVENT

END:VCALENDAR
