BEGIN:VCALENDAR
VERSION:2.0
PRODID:-//ChamberMaster//Event Calendar 2.0//EN
METHOD:PUBLISH
X-PUBLISHED-TTL:P3D
REFRESH-INTERVAL:P3D
CALSCALE:GREGORIAN
BEGIN:VEVENT
DTSTART:20240113T230000Z
DTEND:20240114T020000Z
X-MICROSOFT-CDO-ALLDAYEVENT:FALSE
SUMMARY:1st Annual Rent Party Fundraiser
DESCRIPTION:
X-ALT-DESC;FMTTYPE=text/html:
LOCATION:The White Room: 138 Green Street\, Worcester\, MA 01604
UID:e.2083.16879
SEQUENCE:3
DTSTAMP:20260420T121016Z
URL:https://business.cmschamber.org/events/details/1st-annual-rent-party-fundraiser-16879
END:VEVENT

END:VCALENDAR
