BEGIN:VCALENDAR
VERSION:2.0
PRODID:-//ChamberMaster//Event Calendar 2.0//EN
METHOD:PUBLISH
X-PUBLISHED-TTL:P3D
REFRESH-INTERVAL:P3D
CALSCALE:GREGORIAN
BEGIN:VEVENT
DTSTART:20200831T170000Z
DTEND:20200831T220000Z
X-MICROSOFT-CDO-ALLDAYEVENT:FALSE
SUMMARY:2020 Girls on the Run Golf Tournament
DESCRIPTION:Girls on the Run Worcester County will be hosting a golf tournament to support girls in our community.
X-ALT-DESC;FMTTYPE=text/html:Girls on the Run Worcester County will be hosting a golf tournament to support girls in our community.&nbsp\;&nbsp\;
LOCATION:Shining Rock Golf Club\, 91 Clubhouse Lane\, Northbridge\, MA.
UID:e.2083.12218
SEQUENCE:3
DTSTAMP:20260423T072009Z
URL:https://business.cmschamber.org/events/details/2020-girls-on-the-run-golf-tournament-12218
END:VEVENT

END:VCALENDAR
