BEGIN:VCALENDAR
VERSION:2.0
PRODID:-//ChamberMaster//Event Calendar 2.0//EN
METHOD:PUBLISH
X-PUBLISHED-TTL:P3D
REFRESH-INTERVAL:P3D
CALSCALE:GREGORIAN
BEGIN:VEVENT
DTSTART:20201116T130000Z
DTEND:20201116T210000Z
X-MICROSOFT-CDO-ALLDAYEVENT:FALSE
SUMMARY:2020 Worcester Women's Leadership Conference
DESCRIPTION:We will be sending all registered/paid attendees a unique login url (which cannot be shared and valid for only one entry) prior to the conference on Sunday\, November 15 after 8:00 pm. Be sure to check your junk mail. The email will come from info@worcesterchamber.org\n\n\n\nDownload our digital invitation.\n\n\n\nThis one-day leadership development forum is presented by the Worcester Regional Chamber of Commerce and features amazing keynote speakers\, a variety of educational workshops\, and a virtual marketplace.   \n\n\n\nNow in its 11th year\, the conference has grown to attract more than 800 attendees\, exhibitors\, and expert speakers on issues that most impact women\, such as business empowerment and entrepreneurship\, work/life balance\, and career advancement. \n\n\n\nThis conference WILL be an engaging and inspiring experience. Registrations include live access to:\n\n\n	Two national keynote speakers\n	Two breakout sessions \n	Virtual marketplace \n	Networking lounge \n	Conference app where you can plan your day and see who else is attending\n\n\nCHECK OUT THE CONFERENCE WEBSITE\n\n\n\nExhibitor registration is SEPARATE and available now. If you would like to be an exhibitor at our 2020 conference\, please register online.
X-ALT-DESC;FMTTYPE=text/html:<p><span style="color:#B22222\;"><strong><span style="font-family:arial\,sans-serif\;"><span style="font-size:10.5pt\;">We will be sending all registered/paid attendees&nbsp\;a unique login url (which cannot be shared and valid for only one entry) prior to the conference on</span></span></strong>&nbsp\;</span><strong><span style="color:#B22222\;"><span style="font-family:arial\,sans-serif\;"><span style="font-size:10.5pt\;">Sunday\, November 15 after 8:00 pm. Be sure to check your junk mail. The email will come from</span></span></span><span style="color:red\;"><span style="font-family:arial\,sans-serif\;"><span style="font-size:10.5pt\;"> <a href="mailto:info@worcesterchamber.org">info@worcesterchamber.org</a></span></span></span></strong><br />\n<br />\nD<a href="https://chambermaster.blob.core.windows.net/userfiles/UserFiles/chambers/2083/File/DigitalInvite-withsponsors.jpg">ownload our digital invitation.</a><br />\n<br />\n<span style="font-size:14px\;"><span style="font-family:arial\;">This one-day leadership development forum is presented by the Worcester Regional Chamber of Commerce and features amazing keynote speakers\, a variety of educational workshops\, and a virtual marketplace. &nbsp\;&nbsp\;<br />\n<br />\nNow in its 11th year\, the conference has grown to attract more than 800 attendees\, exhibitors\, and expert speakers on issues that most impact women\, such as business empowerment and entrepreneurship\, work/life balance\, and career advancement.&nbsp\;</span></span><br />\n<br />\n<span style="font-size: 14px\; font-family: arial\;">This conference WILL be an engaging and inspiring experience. Registrations include live access to:</span></p>\n\n<ul>\n	<li>Two national keynote speakers</li>\n	<li>Two breakout sessions&nbsp\;</li>\n	<li>Virtual marketplace&nbsp\;</li>\n	<li>Networking lounge&nbsp\;</li>\n	<li>Conference app where you can plan your day and see who else is attending</li>\n</ul>\n\n<p><a href="https://www.worcesterwomenleadership.com/">CHECK OUT THE CONFERENCE WEBSITE</a><br />\n<br />\n<strong><span style="font-size:14px\;">Exhibitor registration is SEPARATE and available now.&nbsp\;</span></strong><span style="font-size:14px\;">If you would like to be an exhibitor at our 2020 conference\, please <a href="http://worcesterchamber.chambermaster.com/events/details/2020-worcester-women-s-leadership-conference-exhibitor-registration-only-9746">register online</a>.</span></p>\n
LOCATION:Virtual format. Individual login instructions will be sent to registered attendees--MUST include individual email addresses for each registration.
UID:e.2083.10308
SEQUENCE:3
DTSTAMP:20260423T003116Z
URL:https://business.cmschamber.org/events/details/2020-worcester-women-s-leadership-conference-10308
END:VEVENT

END:VCALENDAR
