BEGIN:VCALENDAR
VERSION:2.0
PRODID:-//ChamberMaster//Event Calendar 2.0//EN
METHOD:PUBLISH
X-PUBLISHED-TTL:P3D
REFRESH-INTERVAL:P3D
CALSCALE:GREGORIAN
BEGIN:VEVENT
DTSTART:20201116T130000Z
DTEND:20201116T211500Z
X-MICROSOFT-CDO-ALLDAYEVENT:FALSE
SUMMARY:2020 Worcester Women's Leadership Conference - Exhibitor Registration Only
DESCRIPTION:IMPORTANT: Due to concerns around the Coronavirus\, the Worcester Regional Chamber of Commerce has decided to hold the Worcester Women's Leadership Conference virtually.\n\n \n\nMonday\, November 16\, 2020\n\n8:00am - 4:15pm\n\nVirtual\n\n \n\nThe speakers and schedules will remain the same for the new format. All exhibitors\, sponsors and attendees will automatically be transferred to the new platform. \n\nNow in its 11th year\, the Worcester Women's Leadership Conference is the region's premiere one-day leadership development forum.  Presented by the Worcester Regional Chamber of Commerce\, the conference features amazing keynote speakers\, educational workshops\, a marketplace\, and networking opportunities. Last year\, more than 800 women attended the conference. \n\n\nExhibitor benefits:\n\n\n	Access to over 800 attendees who live and/or work in Central MA \n	Listed as exhibitor on website with hyperlink to Exhibitor home page\n	LEAD\, MOTIVATE or INSPIRE level page at our Virtual Vendor Marketplace\n	One complimentary registration to the conference which includes 2 national keynote speakers\, your choice of 2 workshops and virtual networking room
X-ALT-DESC;FMTTYPE=text/html:<p><span style="font-size: 14px\;"><span style="font-family: arial\;"><span style="color: rgb(255\, 0\, 0)\;">IMPORTANT:&nbsp\;</span></span></span><span style="color:red\;">Due to concerns around the Coronavirus\, the Worcester Regional Chamber of Commerce has decided to hold the Worcester Women&rsquo\;s Leadership Conference virtually.</span><br />\n&nbsp\;<br />\n<strong><span style="color:red\;">Monday\, November 16\, 2020</span></strong><br />\n<font color="#ff0000"><b>8:00am - 4:15pm<br />\nVirtual</b></font><br />\n&nbsp\;<br />\n<span style="color:red\;">The speakers and schedules will remain the same for the new format. All exhibitors\, sponsors and attendees will automatically be transferred to the new platform. </span></p>\n\n<p><span style="font-family: arial\; font-size: 12px\;">Now in its 11th year\, the Worcester Women&#39\;s Leadership Conference is the region&#39\;s premiere one-day leadership development forum. &nbsp\;Presented by the Worcester Regional Chamber of Commerce\, the conference features amazing keynote speakers\, educational workshops\, a marketplace\, and networking opportunities. Last year\, more than 800 women attended the conference.&nbsp\;</span></p>\n<br />\n<strong>Exhibitor benefits:</strong>\n\n<ul>\n	<li style="color:#333333\;"><span style="font-family:arial\,sans-serif\;"><span style="font-size:10.0pt\;">Access to over 800 attendees who live and/or work in Central MA </span></span></li>\n	<li style="color:#333333\;"><span style="font-family:arial\,sans-serif\;"><span style="font-size:10.0pt\;">Listed as exhibitor on website with hyperlink to Exhibitor home page</span></span></li>\n	<li style="color:#333333\;"><span style="font-family:arial\,sans-serif\;"><span style="font-size:10.0pt\;">LEAD\, MOTIVATE or INSPIRE level page at our Virtual Vendor Marketplace</span></span></li>\n	<li style="color:#333333\;"><span style="font-family:arial\,sans-serif\;"><span style="font-size:10.0pt\;"><strong>One complimentary registratio</strong>n to the conference which includes 2 national keynote speakers\, your choice of 2 workshops and virtual networking room </span></span></li>\n</ul>\n
LOCATION:Virtual format. Individual login instructions will be sent to registered attendees--MUST include individual email addresses for each registration.
UID:e.2083.9746
SEQUENCE:3
DTSTAMP:20260423T003614Z
URL:https://business.cmschamber.org/events/details/2020-worcester-women-s-leadership-conference-exhibitor-registration-only-9746
END:VEVENT

END:VCALENDAR
