BEGIN:VCALENDAR
VERSION:2.0
PRODID:-//ChamberMaster//Event Calendar 2.0//EN
METHOD:PUBLISH
X-PUBLISHED-TTL:P3D
REFRESH-INTERVAL:P3D
CALSCALE:GREGORIAN
BEGIN:VEVENT
DTSTART:20210923T130000Z
DTEND:20210923T200000Z
X-MICROSOFT-CDO-ALLDAYEVENT:FALSE
SUMMARY:2021 Girls on the Run Worcester County Golf Tournament
DESCRIPTION:Annual golf tournament to raise funds for the girls of Worcester County.  $150 per person includes 18 holes\, cart and lunch.  Register your foursome here:   https://www.pinwheel.us/register/index/golf-2021
X-ALT-DESC;FMTTYPE=text/html:Annual golf tournament to raise funds for the girls of Worcester County.&nbsp\; $150 per person includes 18 holes\, cart and lunch.&nbsp\; Register your foursome here:&nbsp\; &nbsp\;https://www.pinwheel.us/register/index/golf-2021 &nbsp\;
LOCATION:Shining Rock Golf Club 91 Clubhouse Lane Northbridge\, MA. 01534
UID:e.2083.13070
SEQUENCE:3
DTSTAMP:20260422T091240Z
URL:https://business.cmschamber.org/events/details/2021-girls-on-the-run-worcester-county-golf-tournament-13070
END:VEVENT

END:VCALENDAR
