BEGIN:VCALENDAR
VERSION:2.0
PRODID:-//ChamberMaster//Event Calendar 2.0//EN
METHOD:PUBLISH
X-PUBLISHED-TTL:P3D
REFRESH-INTERVAL:P3D
CALSCALE:GREGORIAN
BEGIN:VEVENT
DTSTART:20210802T170000Z
DTEND:20210802T210000Z
X-MICROSOFT-CDO-ALLDAYEVENT:FALSE
SUMMARY:2021 Green Hill - Worcester Regional Chamber of Commerce Golf Outing
DESCRIPTION:Join us for a day of golf\, fun\, and great prizes. Funds generated from this charitable tournament are applied to college scholarships for Worcester area high school senior students.  As in prior years\, this is a great opportunity to network with fellow business Associates\, have fun and support the financial needs of pending college students that reside within in our community.\n\n\n\nSponsorship Opportunities Available\n\nPlease contact Stefanie Silva at 508.753.2924 x224\n\nssilva@worcesterchamber.org
X-ALT-DESC;FMTTYPE=text/html:<p><span style="font-size: 14px\;"><span style="color: rgb(23\, 23\, 23)\; line-height: 22.77px\;">Join us for a day of golf\, fun\, and great prizes.&nbsp\;</span>Funds generated from this charitable tournament are applied to college scholarships for Worcester area high school senior students.&nbsp\; As in prior years\, this is a great opportunity to network with fellow business Associates\, have fun and support the financial needs of pending college students that reside within in our community.</span><br />\n<br />\n<span style="font-family: arial\;"><span style="font-size: 14px\;"><span style="color: rgb(255\, 0\, 0)\;"><span style="line-height: 22.77px\;"><strong>Sponsorship Opportunities Available</strong></span></span></span></span><br />\n<span style="font-size: 14px\;"><span style="color: rgb(255\, 0\, 0)\;"><strong><span style="font-family: arial\;"><span style="line-height: 22.77px\;">Please contact Stefanie Silva at 508.753.2924 x224</span></span></strong></span></span><br />\n<strong><span style="color:#FF0000\;">ssilva@worcesterchamber.org</span></strong></p>\n
LOCATION:Green Hill Golf Course 1929 Skyline Drive Worcester\, MA
UID:e.2083.12187
SEQUENCE:3
DTSTAMP:20260422T104340Z
URL:https://business.cmschamber.org/events/details/2021-green-hill-worcester-regional-chamber-of-commerce-golf-outing-12187
END:VEVENT

END:VCALENDAR
