BEGIN:VCALENDAR
VERSION:2.0
PRODID:-//ChamberMaster//Event Calendar 2.0//EN
METHOD:PUBLISH
X-PUBLISHED-TTL:P3D
REFRESH-INTERVAL:P3D
CALSCALE:GREGORIAN
BEGIN:VEVENT
DTSTART:20211028T113000Z
DTEND:20211028T200000Z
X-MICROSOFT-CDO-ALLDAYEVENT:FALSE
SUMMARY:2021 Worcester Women's Leadership Conference
DESCRIPTION:LAST DAY TO REGISTER--FRIDAY\, 10/22!\n\n\n\nThis one-day leadership development forum is presented by the Worcester Regional Chamber of Commerce and features amazing keynote speakers\, a variety of educational workshops\, and a day shared with 800 professional women from Central Massachusetts!   \n\n\n\nNow in its 12th year\, the conference has grown to attract more than 800 attendees\, exhibitors\, and expert speakers on issues that most impact women\, such as business empowerment and entrepreneurship\, work/life balance\, and career advancement. \n\n\n\nThis conference WILL be an engaging and inspiring experience. Registrations include:\n\n\n	Two national keynote speakers\n	Two breakout sessions \n	Continental breakfast and plated lunch\n	Networking reception\n	Conference app where you can plan your day and see who else is attending\n\n\nCHECK OUT THE CONFERENCE WEBSITE\n\n\n\nVaccines required for all attendees. Please read our Click Here \n\n\n\n7:15 AM          Registration (3rd floor)\, Coffee\, Networking\n\n8:00 AM          Morning Keynote Speaker\, Cynt Marshall\n\n9:45 AM          Break\, Coffee\, Networking\n\n10:15 AM        4 Workshops: A/B\, C/D\, E\, Junior Ballroom\n\n11:30 AM        Break\, Coffee\, Networking\n\n11:45 AM        Lunch\n\n12:30 PM         Break\, Coffee\, Networking\n\n12:45 PM         4 Workshops: A/B\, C/D\, E\, Junior Ballroom\n\n2:00 PM           Break\, Refreshments\, Networking                 \n\n2:15 PM           Afternoon Keynote Speaker\, Michelle Poler\n\n3:15 PM           Reception\n\n4:00 PM           Adjourn
X-ALT-DESC;FMTTYPE=text/html:<p><font color="#b22222" face="arial\, sans-serif"><span style="font-size: 14px\;"><b>LAST DAY TO REGISTER--FRIDAY\, 10/22!</b></span></font><br />\n<br />\n<span style="font-size:14px\;"><span style="font-family:arial\;">This one-day leadership development forum is presented by the Worcester Regional Chamber of Commerce and features amazing keynote speakers\, a variety of educational workshops\, and a day shared with 800 professional women from Central Massachusetts!&nbsp\; &nbsp\;<br />\n<br />\nNow in its 12th year\, the conference has grown to attract more than 800 attendees\, exhibitors\, and expert speakers on issues that most impact women\, such as business empowerment and entrepreneurship\, work/life balance\, and career advancement.&nbsp\;</span></span><br />\n<br />\n<span style="font-size: 14px\; font-family: arial\;">This conference WILL be an engaging and inspiring experience. Registrations include:</span></p>\n\n<ul>\n	<li>Two national keynote speakers</li>\n	<li>Two breakout sessions&nbsp\;</li>\n	<li>Continental breakfast and plated lunch</li>\n	<li>Networking reception</li>\n	<li>Conference app where you can plan your day and see who else is attending</li>\n</ul>\n\n<p><a href="https://www.worcesterwomenleadership.com/">CHECK OUT THE CONFERENCE WEBSITE</a><br />\n<br />\n<span style="font-size: 14px\;"><b><span style="background-color:#FFFF00\;">Vaccines required for all attendees. Please read our&nbsp\;<a href="https://chambermaster.blob.core.windows.net/userfiles/UserFiles/chambers/2083/File/WWLCCovidPolicy10.22.pdf">Click Here</a> </span></b></span><br />\n<br />\n<span style="font-family: calibri\, sans-serif\;">7:15 AM&nbsp\;&nbsp\;&nbsp\;&nbsp\;&nbsp\;&nbsp\;&nbsp\;&nbsp\;&nbsp\; Registration (3<sup>rd</sup>&nbsp\;floor)\, Coffee\, Networking</span><br />\n<span style="font-family: calibri\, sans-serif\;">8:00&nbsp\;AM&nbsp\;&nbsp\;&nbsp\;&nbsp\;&nbsp\;&nbsp\;&nbsp\;&nbsp\;&nbsp\; Morning Keynote Speaker\, Cynt Marshall</span><br />\n<span style="font-family: calibri\, sans-serif\;">9:45 AM&nbsp\;&nbsp\;&nbsp\;&nbsp\;&nbsp\;&nbsp\;&nbsp\;&nbsp\;&nbsp\; Break\, Coffee\, Networking</span><br />\n<span style="font-family: calibri\, sans-serif\;">10:15 AM&nbsp\;&nbsp\;&nbsp\;&nbsp\;&nbsp\;&nbsp\;&nbsp\; 4 Workshops: A/B\, C/D\, E\, Junior Ballroom</span><br />\n<span style="font-family: calibri\, sans-serif\;">11:30 AM &nbsp\;&nbsp\;&nbsp\;&nbsp\;&nbsp\;&nbsp\; Break\, Coffee\, Networking</span><br />\n<span style="font-family: calibri\, sans-serif\;">11:45 AM&nbsp\;&nbsp\;&nbsp\;&nbsp\;&nbsp\;&nbsp\;&nbsp\; Lunch</span><br />\n<span style="font-family: calibri\, sans-serif\;">12:30 PM &nbsp\;&nbsp\;&nbsp\;&nbsp\;&nbsp\;&nbsp\;&nbsp\; Break\, Coffee\, Networking</span><br />\n<span style="font-family: calibri\, sans-serif\;">12:45 PM&nbsp\;&nbsp\;&nbsp\;&nbsp\;&nbsp\;&nbsp\;&nbsp\;&nbsp\; 4 Workshops: A/B\, C/D\, E\, Junior Ballroom</span><br />\n<span style="font-family: calibri\, sans-serif\;">2:00 PM &nbsp\;&nbsp\;&nbsp\;&nbsp\;&nbsp\;&nbsp\;&nbsp\;&nbsp\;&nbsp\; Break\, Refreshments\, Networking</span>&nbsp\; &nbsp\; &nbsp\; &nbsp\; &nbsp\; &nbsp\; &nbsp\; &nbsp\; &nbsp\;<br />\n<span style="font-family: calibri\, sans-serif\;">2:15 PM&nbsp\;&nbsp\;&nbsp\;&nbsp\;&nbsp\;&nbsp\;&nbsp\;&nbsp\;&nbsp\;&nbsp\; Afternoon Keynote Speaker\, Michelle Poler</span><br />\n<span style="font-family: calibri\, sans-serif\;">3:15 PM&nbsp\;&nbsp\;&nbsp\;&nbsp\;&nbsp\;&nbsp\;&nbsp\;&nbsp\;&nbsp\;&nbsp\; Reception</span><br />\n<span style="font-family: calibri\, sans-serif\;">4:00 PM&nbsp\;&nbsp\;&nbsp\;&nbsp\;&nbsp\;&nbsp\;&nbsp\;&nbsp\;&nbsp\;&nbsp\; Adjourn</span><br />\n&nbsp\;</p>\n
LOCATION:DCU Center Ballroom\, 3rd Fl. 50 Foster Street | Worcester
UID:e.2083.12731
SEQUENCE:3
DTSTAMP:20260422T075107Z
URL:https://business.cmschamber.org/events/details/2021-worcester-women-s-leadership-conference-12731
END:VEVENT

END:VCALENDAR
