BEGIN:VCALENDAR
VERSION:2.0
PRODID:-//ChamberMaster//Event Calendar 2.0//EN
METHOD:PUBLISH
X-PUBLISHED-TTL:P3D
REFRESH-INTERVAL:P3D
CALSCALE:GREGORIAN
BEGIN:VEVENT
DTSTART:20220408T220000Z
DTEND:20220409T000000Z
X-MICROSOFT-CDO-ALLDAYEVENT:FALSE
SUMMARY:2022 Gala and People of Courage Awards for Safe Homes
DESCRIPTION:Save the Date for the 2022 Gala and People of Courage Awards for Safe Homes\, supporting LGBTQIA+ Youth in Central Massachusetts for over 25 years!
X-ALT-DESC;FMTTYPE=text/html:Save the Date for the 2022 Gala and People of Courage Awards for Safe Homes\, supporting LGBTQIA+ Youth in Central Massachusetts for over 25 years!
LOCATION:Virtual
UID:e.2083.12955
SEQUENCE:3
DTSTAMP:20260421T231954Z
URL:https://business.cmschamber.org/events/details/2022-gala-and-people-of-courage-awards-for-safe-homes-12955
END:VEVENT

END:VCALENDAR
