BEGIN:VCALENDAR
VERSION:2.0
PRODID:-//ChamberMaster//Event Calendar 2.0//EN
METHOD:PUBLISH
X-PUBLISHED-TTL:P3D
REFRESH-INTERVAL:P3D
CALSCALE:GREGORIAN
BEGIN:VEVENT
DTSTART:20220616T113000Z
DTEND:20220616T200000Z
X-MICROSOFT-CDO-ALLDAYEVENT:FALSE
SUMMARY:2022 Worcester Women's Leadership Conference
DESCRIPTION:This one-day leadership development forum is presented by the Worcester Regional Chamber of Commerce and features amazing keynote speakers\, a variety of educational workshops\, and a day shared with 600 professional women from Central Massachusetts!   \n\n\n\nNow in its 13th year\, the conference has grown to attract more than 800 attendees\, exhibitors\, and expert speakers on issues that most impact women\, such as business empowerment and entrepreneurship\, work/life balance\, and career advancement. \n\n\n\nThis conference WILL be an engaging and inspiring experience. Registrations include:\n\n\n	Two national keynote speakers\n	Two breakout sessions \n	Continental breakfast and plated lunch\n	Networking reception\n	Conference app where you can plan your day and see who else is attending\n\n\nCHECK OUT THE CONFERENCE WEBSITE
X-ALT-DESC;FMTTYPE=text/html:<p><br />\n<br />\n<span style="font-size:14px\;"><span style="font-family:arial\;">This one-day leadership development forum is presented by the Worcester Regional Chamber of Commerce and features amazing keynote speakers\, a variety of educational workshops\, and a day shared with 600 professional women from Central Massachusetts!&nbsp\; &nbsp\;<br />\n<br />\nNow in its 13th year\, the conference has grown to attract more than 800 attendees\, exhibitors\, and expert speakers on issues that most impact women\, such as business empowerment and entrepreneurship\, work/life balance\, and career advancement.&nbsp\;</span></span><br />\n<br />\n<span style="font-size: 14px\; font-family: arial\;">This conference WILL be an engaging and inspiring experience. Registrations include:</span></p>\n\n<ul>\n	<li>Two national keynote speakers</li>\n	<li>Two breakout sessions&nbsp\;</li>\n	<li>Continental breakfast and plated lunch</li>\n	<li>Networking reception</li>\n	<li>Conference app where you can plan your day and see who else is attending</li>\n</ul>\n\n<p><a href="https://www.worcesterwomenleadership.com/">CHECK OUT THE CONFERENCE WEBSITE</a><br />\n<br />\n&nbsp\;</p>\n
LOCATION:DCU Center Ballroom\, 3rd Fl. 50 Foster Street | Worcester
UID:e.2083.13148
SEQUENCE:3
DTSTAMP:20260421T215444Z
URL:https://business.cmschamber.org/events/details/2022-worcester-women-s-leadership-conference-13148
END:VEVENT

END:VCALENDAR
