BEGIN:VCALENDAR
VERSION:2.0
PRODID:-//ChamberMaster//Event Calendar 2.0//EN
METHOD:PUBLISH
X-PUBLISHED-TTL:P3D
REFRESH-INTERVAL:P3D
CALSCALE:GREGORIAN
BEGIN:VEVENT
DTSTART:20230618T160000Z
DTEND:20230618T210000Z
X-MICROSOFT-CDO-ALLDAYEVENT:FALSE
SUMMARY:20th Annual Asian Festival
DESCRIPTION:20th Annual Asian Festival\n\nMusic\, Food\, Dances
X-ALT-DESC;FMTTYPE=text/html:20th Annual Asian Festival<br />\nMusic\, Food\, Dances
LOCATION:Worcester State University Wellness Center 486 Chandler St Worcester\, MA 01602
UID:e.2083.15980
SEQUENCE:3
DTSTAMP:20260421T023647Z
URL:https://business.cmschamber.org/events/details/20th-annual-asian-festival-15980
END:VEVENT

END:VCALENDAR
