BEGIN:VCALENDAR
VERSION:2.0
PRODID:-//ChamberMaster//Event Calendar 2.0//EN
METHOD:PUBLISH
X-PUBLISHED-TTL:P3D
REFRESH-INTERVAL:P3D
CALSCALE:GREGORIAN
BEGIN:VEVENT
DTSTART:20221018T210000Z
DTEND:20221018T230000Z
X-MICROSOFT-CDO-ALLDAYEVENT:FALSE
SUMMARY:Women's Initiative 20th Annual Stepping Up for Girls
DESCRIPTION:The Women's Initiative is celebrating 20 years of women's philanthropy\, leadership\, and empowerment of adolescent girls in Central Massachusetts. TWENTY YEARS AGO\, when Lois Green and Meridith Wesby gathered with women leaders in Lois' living room\, no one could have predicted the impact their vision would have on women and girls in our community. Please join us as we celebrate their legacy and our future.\n\n \n2022 WOMEN'S INITIATIVE AWARD HONOREES \n\nLois B. Green Leadership Award\n\nShauree Allotey\n\nDirector of Operations\, Boys & Girls Club of Worcester\n\nMeridith D. Wesby Young Leader Award\n\nMorgan Johnson\n\nStudent and Social Justice Activist\n\n\n\nStepping Up for Girls is the Women's Initiative's signature fundraiser to support women's leadership and girls' programming. The event highlights our funded programs\, celebrates local women leaders\, and the positive impact we as a community have made in supporting women and girls. To learn more about the Women's Initiative\, please visit www.unitedwaycm.org/womens-initiative.
X-ALT-DESC;FMTTYPE=text/html:<span style="font-family:verdana"><span style="font-size:12px">The Women&#39\;s Initiative is celebrating 20 years of women&#39\;s philanthropy\, leadership\, and empowerment of adolescent girls in Central Massachusetts.&nbsp\;TWENTY YEARS AGO\, when Lois Green and Meridith Wesby gathered with women leaders in Lois&#39\; living room\, no one could have predicted the impact their vision would have on women and girls in our community. Please join us as we celebrate their legacy and our future.</span></span><br />\n&nbsp\;\n<p><span style="font-size:12px"><span style="font-family:verdana"><strong>2022 WOMEN&rsquo\;S INITIATIVE AWARD HONOREES&nbsp\;</strong></span></span><br />\n<strong>Lois B. Green Leadership Award</strong><br />\n<span style="font-family:verdana\; font-size:12px">Shauree Allotey</span><br />\n<span style="font-family:verdana\; font-size:12px">Director of Operations\, Boys &amp\; Girls Club of Worcester</span></p>\n\n<p><span style="font-family:verdana"><span style="font-size:12px"><strong>Meridith D. Wesby Young Leader Award</strong><br />\nMorgan Johnson<br />\nStudent and Social Justice Activist</span><br />\n<br />\n<span style="font-size:12px"><span style="color:rgb(0\, 0\, 0)">Stepping Up for Girls is the Women&#39\;s Initiative&#39\;s signature fundraiser to support women&#39\;s leadership and girls&#39\; programming. The event highlights our funded programs\, celebrates local women leaders\, and the positive impact we as a community have made in supporting women and girls. To</span><span style="color:rgb(0\, 0\, 0)">&nbsp\;learn more about the Women&#39\;s Initiative\, please visit www.unitedwaycm.org/womens-initiative.</span></span></span></p>\n
LOCATION:Off the Rails Worcester 90 Commercial Street
UID:e.2083.14740
SEQUENCE:3
DTSTAMP:20260421T155039Z
URL:https://business.cmschamber.org/events/details/20th-annual-stepping-up-for-girls-celebration-14740
END:VEVENT

END:VCALENDAR
