BEGIN:VCALENDAR
VERSION:2.0
PRODID:-//ChamberMaster//Event Calendar 2.0//EN
METHOD:PUBLISH
X-PUBLISHED-TTL:P3D
REFRESH-INTERVAL:P3D
CALSCALE:GREGORIAN
BEGIN:VEVENT
DTSTART:20230626T130000Z
DTEND:20230626T180000Z
X-MICROSOFT-CDO-ALLDAYEVENT:FALSE
SUMMARY:2nd Annual Golf Tournament 2023
DESCRIPTION:Come Join our non profit and help to fight addiction in our community through long term treatment. We are hosting our 2nd Annual Golf Tournament to Fight Addiction on June 26\, 2023 at Crumpin Fox Golf Course. We are excited to partner with the community for the special event. We need your support to make this year's event an overwhelming success. The proceeds from this event will be going to raise bed capacity and allow us to serve those struggling in our communities with proven long term treatment and help not only change lives but also better our neighborhoods and communities. Together we can make a difference!!
X-ALT-DESC;FMTTYPE=text/html:Come Join our non profit and help to fight addiction in our community through long term treatment. We are hosting our 2nd Annual Golf Tournament to Fight Addiction on June 26\, 2023 at Crumpin Fox Golf Course. We are excited to partner with the community for the special event. We need your support to make this year&#39\;s event an overwhelming success. The proceeds from this event will be going to raise bed capacity and allow us to serve those struggling in our communities with proven long term treatment and help not only change lives but also better our neighborhoods and communities. Together we can make a difference!!
LOCATION:Crumpin Fox Golf Course 87 Paramenter Rd Bernardston MA 01337
UID:e.2083.15921
SEQUENCE:3
DTSTAMP:20260421T005005Z
URL:https://business.cmschamber.org/events/details/2nd-annual-golf-tournament-2023-15921
END:VEVENT

END:VCALENDAR
