BEGIN:VCALENDAR
VERSION:2.0
PRODID:-//ChamberMaster//Event Calendar 2.0//EN
METHOD:PUBLISH
X-PUBLISHED-TTL:P3D
REFRESH-INTERVAL:P3D
CALSCALE:GREGORIAN
BEGIN:VEVENT
DTSTART:20230911T220000Z
DTEND:20230912T000000Z
X-MICROSOFT-CDO-ALLDAYEVENT:FALSE
SUMMARY:2nd Annual Shrewsbury Street Parade Day Meeting For Business Owners
DESCRIPTION:ATTENTION: Worcester and Surrounding Business Owners\n\nThe 2nd Annual Shrewsbury Street Italian Heritage Parade will take place on Sunday\, October 8th\, 2023.\n\nSSIHP will march down Shrewsbury Street to Washington Square - Union Station beginning at noon.\n\nWe realize that as a business located on or near Shrewsbury Street\, the parade can create challenges and opportunities for you\, and we would like to meet with you to hear about this.\n\nPlease join us at the 201 East Side Post on Monday\, 9.11.23 at 6 pm to discuss parade day operations and how we can possibly work together to improve the day for all.\n\nPlease reply to shrewsburystitalianparade@gmail.com to confirm your attendance.\n\nWe are looking forward to seeing you then!\n\nMaria Stella Fiore President and SSIHP Committee\n\n#SSIHP #ShewsburyStreetItalianHeritageParade #shrewsburystreetWorcesterMA #worcesterMA #italianheritage #italianparade #parade #WorcesterMAparade #WorcesterMAItalianHeritageParade #SSIHPCommittee #Italianstyle #ItalianAmerican #Italy #Italia #italian
X-ALT-DESC;FMTTYPE=text/html:<span style="background-color:rgb(255\, 255\, 255)\; color:rgb(5\, 5\, 5)\; font-family:segoe ui historic\,segoe ui\,helvetica\,arial\,sans-serif\; font-size:15px">ATTENTION: Worcester and Surrounding Business Owners</span><br />\n<span style="background-color:rgb(255\, 255\, 255)\; color:rgb(5\, 5\, 5)\; font-family:segoe ui historic\,segoe ui\,helvetica\,arial\,sans-serif\; font-size:15px">The 2nd Annual Shrewsbury Street Italian Heritage Parade will take place on Sunday\, October 8th\, 2023.</span><br />\n<span style="background-color:rgb(255\, 255\, 255)\; color:rgb(5\, 5\, 5)\; font-family:segoe ui historic\,segoe ui\,helvetica\,arial\,sans-serif\; font-size:15px">SSIHP will march down Shrewsbury Street to Washington Square - Union Station beginning at noon.</span><br />\n<span style="background-color:rgb(255\, 255\, 255)\; color:rgb(5\, 5\, 5)\; font-family:segoe ui historic\,segoe ui\,helvetica\,arial\,sans-serif\; font-size:15px">We realize that as a business located on or near Shrewsbury Street\, the parade can create challenges and opportunities for you\, and we would like to meet with you to hear about this.</span><br />\n<span style="background-color:rgb(255\, 255\, 255)\; color:rgb(5\, 5\, 5)\; font-family:segoe ui historic\,segoe ui\,helvetica\,arial\,sans-serif\; font-size:15px">Please join us at the 201 East Side Post on Monday\, 9.11.23 at 6 pm to discuss parade day operations and how we can possibly work together to improve the day for all.</span><br />\n<span style="background-color:rgb(255\, 255\, 255)\; color:rgb(5\, 5\, 5)\; font-family:segoe ui historic\,segoe ui\,helvetica\,arial\,sans-serif\; font-size:15px">Please reply to shrewsburystitalianparade@gmail.com to confirm your attendance.</span><br />\n<span style="background-color:rgb(255\, 255\, 255)\; color:rgb(5\, 5\, 5)\; font-family:segoe ui historic\,segoe ui\,helvetica\,arial\,sans-serif\; font-size:15px">We are looking forward to seeing you then!</span><br />\n<span style="background-color:rgb(255\, 255\, 255)\; color:rgb(5\, 5\, 5)\; font-family:segoe ui historic\,segoe ui\,helvetica\,arial\,sans-serif\; font-size:15px">Maria Stella Fiore President and SSIHP Committee</span><br />\n<a class="x1i10hfl xjbqb8w x6umtig x1b1mbwd xaqea5y xav7gou x9f619 x1ypdohk xt0psk2 xe8uvvx xdj266r x11i5rnm xat24cr x1mh8g0r xexx8yu x4uap5 x18d9i69 xkhd6sd x16tdsg8 x1hl2dhg xggy1nq x1a2a7pz xt0b8zv xzsf02u x1s688f" href="https://www.facebook.com/hashtag/ssihp?__eep__=6&amp\;__cft__[0]=AZXuJmUmgnLpdd9GvGjXGSo5hXZivA_5rBEl1kAbI_RHeNNm75mKiJfdxPRLaxIh7qBA9crVyCGyDdmJqmwaps-bC447qx966-eNNTjP4p5DrmY1s4afpnLaTieQZLbKrOM&amp\;__tn__=q" style="cursor: pointer\; text-decoration-line: none\; border-width: 0px\; border-style: initial\; border-color: initial\; outline: none\; list-style: none\; margin: 0px\; padding: 0px\; -webkit-tap-highlight-color: transparent\; font-weight: 600\; box-sizing: border-box\; touch-action: manipulation\; background-color: rgb(255\, 255\, 255)\; display: inline\; font-family: &quot\;Segoe UI Historic&quot\;\, &quot\;Segoe UI&quot\;\, Helvetica\, Arial\, sans-serif\; font-size: 15px\;" tabindex="0">#SSIHP</a><span style="background-color:rgb(255\, 255\, 255)\; color:rgb(5\, 5\, 5)\; font-family:segoe ui historic\,segoe ui\,helvetica\,arial\,sans-serif\; font-size:15px">&nbsp\;</span><a class="x1i10hfl xjbqb8w x6umtig x1b1mbwd xaqea5y xav7gou x9f619 x1ypdohk xt0psk2 xe8uvvx xdj266r x11i5rnm xat24cr x1mh8g0r xexx8yu x4uap5 x18d9i69 xkhd6sd x16tdsg8 x1hl2dhg xggy1nq x1a2a7pz xt0b8zv xzsf02u x1s688f" href="https://www.facebook.com/hashtag/shewsburystreetitalianheritageparade?__eep__=6&amp\;__cft__[0]=AZXuJmUmgnLpdd9GvGjXGSo5hXZivA_5rBEl1kAbI_RHeNNm75mKiJfdxPRLaxIh7qBA9crVyCGyDdmJqmwaps-bC447qx966-eNNTjP4p5DrmY1s4afpnLaTieQZLbKrOM&amp\;__tn__=q" style="cursor: pointer\; text-decoration-line: none\; border-width: 0px\; border-style: initial\; border-color: initial\; outline: none\; list-style: none\; margin: 0px\; padding: 0px\; -webkit-tap-highlight-color: transparent\; font-weight: 600\; box-sizing: border-box\; touch-action: manipulation\; background-color: rgb(255\, 255\, 255)\; display: inline\; font-family: &quot\;Segoe UI Historic&quot\;\, &quot\;Segoe UI&quot\;\, Helvetica\, Arial\, sans-serif\; font-size: 15px\;" tabindex="0">#ShewsburyStreetItalianHeritageParade</a><span style="background-color:rgb(255\, 255\, 255)\; color:rgb(5\, 5\, 5)\; font-family:segoe ui historic\,segoe ui\,helvetica\,arial\,sans-serif\; font-size:15px">&nbsp\;</span><a class="x1i10hfl xjbqb8w x6umtig x1b1mbwd xaqea5y xav7gou x9f619 x1ypdohk xt0psk2 xe8uvvx xdj266r x11i5rnm xat24cr x1mh8g0r xexx8yu x4uap5 x18d9i69 xkhd6sd x16tdsg8 x1hl2dhg xggy1nq x1a2a7pz xt0b8zv xzsf02u x1s688f" href="https://www.facebook.com/hashtag/shrewsburystreetworcesterma?__eep__=6&amp\;__cft__[0]=AZXuJmUmgnLpdd9GvGjXGSo5hXZivA_5rBEl1kAbI_RHeNNm75mKiJfdxPRLaxIh7qBA9crVyCGyDdmJqmwaps-bC447qx966-eNNTjP4p5DrmY1s4afpnLaTieQZLbKrOM&amp\;__tn__=q" style="cursor: pointer\; text-decoration-line: none\; border-width: 0px\; border-style: initial\; border-color: initial\; outline: none\; list-style: none\; margin: 0px\; padding: 0px\; -webkit-tap-highlight-color: transparent\; font-weight: 600\; box-sizing: border-box\; touch-action: manipulation\; background-color: rgb(255\, 255\, 255)\; display: inline\; font-family: &quot\;Segoe UI Historic&quot\;\, &quot\;Segoe UI&quot\;\, Helvetica\, Arial\, sans-serif\; font-size: 15px\;" tabindex="0">#shrewsburystreetWorcesterMA</a><span style="background-color:rgb(255\, 255\, 255)\; color:rgb(5\, 5\, 5)\; font-family:segoe ui historic\,segoe ui\,helvetica\,arial\,sans-serif\; font-size:15px">&nbsp\;</span><a class="x1i10hfl xjbqb8w x6umtig x1b1mbwd xaqea5y xav7gou x9f619 x1ypdohk xt0psk2 xe8uvvx xdj266r x11i5rnm xat24cr x1mh8g0r xexx8yu x4uap5 x18d9i69 xkhd6sd x16tdsg8 x1hl2dhg xggy1nq x1a2a7pz xt0b8zv xzsf02u x1s688f" href="https://www.facebook.com/hashtag/worcesterma?__eep__=6&amp\;__cft__[0]=AZXuJmUmgnLpdd9GvGjXGSo5hXZivA_5rBEl1kAbI_RHeNNm75mKiJfdxPRLaxIh7qBA9crVyCGyDdmJqmwaps-bC447qx966-eNNTjP4p5DrmY1s4afpnLaTieQZLbKrOM&amp\;__tn__=q" style="cursor: pointer\; text-decoration-line: none\; border-width: 0px\; border-style: initial\; border-color: initial\; outline: none\; list-style: none\; margin: 0px\; padding: 0px\; -webkit-tap-highlight-color: transparent\; font-weight: 600\; box-sizing: border-box\; touch-action: manipulation\; background-color: rgb(255\, 255\, 255)\; display: inline\; font-family: &quot\;Segoe UI Historic&quot\;\, &quot\;Segoe UI&quot\;\, Helvetica\, Arial\, sans-serif\; font-size: 15px\;" tabindex="0">#worcesterMA</a><span style="background-color:rgb(255\, 255\, 255)\; color:rgb(5\, 5\, 5)\; font-family:segoe ui historic\,segoe ui\,helvetica\,arial\,sans-serif\; font-size:15px">&nbsp\;</span><a class="x1i10hfl xjbqb8w x6umtig x1b1mbwd xaqea5y xav7gou x9f619 x1ypdohk xt0psk2 xe8uvvx xdj266r x11i5rnm xat24cr x1mh8g0r xexx8yu x4uap5 x18d9i69 xkhd6sd x16tdsg8 x1hl2dhg xggy1nq x1a2a7pz xt0b8zv xzsf02u x1s688f" href="https://www.facebook.com/hashtag/italianheritage?__eep__=6&amp\;__cft__[0]=AZXuJmUmgnLpdd9GvGjXGSo5hXZivA_5rBEl1kAbI_RHeNNm75mKiJfdxPRLaxIh7qBA9crVyCGyDdmJqmwaps-bC447qx966-eNNTjP4p5DrmY1s4afpnLaTieQZLbKrOM&amp\;__tn__=q" style="cursor: pointer\; text-decoration-line: none\; border-width: 0px\; border-style: initial\; border-color: initial\; outline: none\; list-style: none\; margin: 0px\; padding: 0px\; -webkit-tap-highlight-color: transparent\; font-weight: 600\; box-sizing: border-box\; touch-action: manipulation\; background-color: rgb(255\, 255\, 255)\; display: inline\; font-family: &quot\;Segoe UI Historic&quot\;\, &quot\;Segoe UI&quot\;\, Helvetica\, Arial\, sans-serif\; font-size: 15px\;" tabindex="0">#italianheritage</a><span style="background-color:rgb(255\, 255\, 255)\; color:rgb(5\, 5\, 5)\; font-family:segoe ui historic\,segoe ui\,helvetica\,arial\,sans-serif\; font-size:15px">&nbsp\;</span><a class="x1i10hfl xjbqb8w x6umtig x1b1mbwd xaqea5y xav7gou x9f619 x1ypdohk xt0psk2 xe8uvvx xdj266r x11i5rnm xat24cr x1mh8g0r xexx8yu x4uap5 x18d9i69 xkhd6sd x16tdsg8 x1hl2dhg xggy1nq x1a2a7pz xt0b8zv xzsf02u x1s688f" href="https://www.facebook.com/hashtag/italianparade?__eep__=6&amp\;__cft__[0]=AZXuJmUmgnLpdd9GvGjXGSo5hXZivA_5rBEl1kAbI_RHeNNm75mKiJfdxPRLaxIh7qBA9crVyCGyDdmJqmwaps-bC447qx966-eNNTjP4p5DrmY1s4afpnLaTieQZLbKrOM&amp\;__tn__=q" style="cursor: pointer\; text-decoration-line: none\; border-width: 0px\; border-style: initial\; border-color: initial\; outline: none\; list-style: none\; margin: 0px\; padding: 0px\; -webkit-tap-highlight-color: transparent\; font-weight: 600\; box-sizing: border-box\; touch-action: manipulation\; background-color: rgb(255\, 255\, 255)\; display: inline\; font-family: &quot\;Segoe UI Historic&quot\;\, &quot\;Segoe UI&quot\;\, Helvetica\, Arial\, sans-serif\; font-size: 15px\;" tabindex="0">#italianparade</a><span style="background-color:rgb(255\, 255\, 255)\; color:rgb(5\, 5\, 5)\; font-family:segoe ui historic\,segoe ui\,helvetica\,arial\,sans-serif\; font-size:15px">&nbsp\;</span><a class="x1i10hfl xjbqb8w x6umtig x1b1mbwd xaqea5y xav7gou x9f619 x1ypdohk xt0psk2 xe8uvvx xdj266r x11i5rnm xat24cr x1mh8g0r xexx8yu x4uap5 x18d9i69 xkhd6sd x16tdsg8 x1hl2dhg xggy1nq x1a2a7pz xt0b8zv xzsf02u x1s688f" href="https://www.facebook.com/hashtag/parade?__eep__=6&amp\;__cft__[0]=AZXuJmUmgnLpdd9GvGjXGSo5hXZivA_5rBEl1kAbI_RHeNNm75mKiJfdxPRLaxIh7qBA9crVyCGyDdmJqmwaps-bC447qx966-eNNTjP4p5DrmY1s4afpnLaTieQZLbKrOM&amp\;__tn__=q" style="cursor: pointer\; text-decoration-line: none\; border-width: 0px\; border-style: initial\; border-color: initial\; outline: none\; list-style: none\; margin: 0px\; padding: 0px\; -webkit-tap-highlight-color: transparent\; font-weight: 600\; box-sizing: border-box\; touch-action: manipulation\; background-color: rgb(255\, 255\, 255)\; display: inline\; font-family: &quot\;Segoe UI Historic&quot\;\, &quot\;Segoe UI&quot\;\, Helvetica\, Arial\, sans-serif\; font-size: 15px\;" tabindex="0">#parade</a><span style="background-color:rgb(255\, 255\, 255)\; color:rgb(5\, 5\, 5)\; font-family:segoe ui historic\,segoe ui\,helvetica\,arial\,sans-serif\; font-size:15px">&nbsp\;</span><a class="x1i10hfl xjbqb8w x6umtig x1b1mbwd xaqea5y xav7gou x9f619 x1ypdohk xt0psk2 xe8uvvx xdj266r x11i5rnm xat24cr x1mh8g0r xexx8yu x4uap5 x18d9i69 xkhd6sd x16tdsg8 x1hl2dhg xggy1nq x1a2a7pz xt0b8zv xzsf02u x1s688f" href="https://www.facebook.com/hashtag/worcestermaparade?__eep__=6&amp\;__cft__[0]=AZXuJmUmgnLpdd9GvGjXGSo5hXZivA_5rBEl1kAbI_RHeNNm75mKiJfdxPRLaxIh7qBA9crVyCGyDdmJqmwaps-bC447qx966-eNNTjP4p5DrmY1s4afpnLaTieQZLbKrOM&amp\;__tn__=q" style="cursor: pointer\; text-decoration-line: none\; border-width: 0px\; border-style: initial\; border-color: initial\; outline: none\; list-style: none\; margin: 0px\; padding: 0px\; -webkit-tap-highlight-color: transparent\; font-weight: 600\; box-sizing: border-box\; touch-action: manipulation\; background-color: rgb(255\, 255\, 255)\; display: inline\; font-family: &quot\;Segoe UI Historic&quot\;\, &quot\;Segoe UI&quot\;\, Helvetica\, Arial\, sans-serif\; font-size: 15px\;" tabindex="0">#WorcesterMAparade</a><span style="background-color:rgb(255\, 255\, 255)\; color:rgb(5\, 5\, 5)\; font-family:segoe ui historic\,segoe ui\,helvetica\,arial\,sans-serif\; font-size:15px">&nbsp\;</span><a class="x1i10hfl xjbqb8w x6umtig x1b1mbwd xaqea5y xav7gou x9f619 x1ypdohk xt0psk2 xe8uvvx xdj266r x11i5rnm xat24cr x1mh8g0r xexx8yu x4uap5 x18d9i69 xkhd6sd x16tdsg8 x1hl2dhg xggy1nq x1a2a7pz xt0b8zv xzsf02u x1s688f" href="https://www.facebook.com/hashtag/worcestermaitalianheritageparade?__eep__=6&amp\;__cft__[0]=AZXuJmUmgnLpdd9GvGjXGSo5hXZivA_5rBEl1kAbI_RHeNNm75mKiJfdxPRLaxIh7qBA9crVyCGyDdmJqmwaps-bC447qx966-eNNTjP4p5DrmY1s4afpnLaTieQZLbKrOM&amp\;__tn__=q" style="cursor: pointer\; text-decoration-line: none\; border-width: 0px\; border-style: initial\; border-color: initial\; outline: none\; list-style: none\; margin: 0px\; padding: 0px\; -webkit-tap-highlight-color: transparent\; font-weight: 600\; box-sizing: border-box\; touch-action: manipulation\; background-color: rgb(255\, 255\, 255)\; display: inline\; font-family: &quot\;Segoe UI Historic&quot\;\, &quot\;Segoe UI&quot\;\, Helvetica\, Arial\, sans-serif\; font-size: 15px\;" tabindex="0">#WorcesterMAItalianHeritageParade</a><span style="background-color:rgb(255\, 255\, 255)\; color:rgb(5\, 5\, 5)\; font-family:segoe ui historic\,segoe ui\,helvetica\,arial\,sans-serif\; font-size:15px">&nbsp\;</span><a class="x1i10hfl xjbqb8w x6umtig x1b1mbwd xaqea5y xav7gou x9f619 x1ypdohk xt0psk2 xe8uvvx xdj266r x11i5rnm xat24cr x1mh8g0r xexx8yu x4uap5 x18d9i69 xkhd6sd x16tdsg8 x1hl2dhg xggy1nq x1a2a7pz xt0b8zv xzsf02u x1s688f" href="https://www.facebook.com/hashtag/ssihpcommittee?__eep__=6&amp\;__cft__[0]=AZXuJmUmgnLpdd9GvGjXGSo5hXZivA_5rBEl1kAbI_RHeNNm75mKiJfdxPRLaxIh7qBA9crVyCGyDdmJqmwaps-bC447qx966-eNNTjP4p5DrmY1s4afpnLaTieQZLbKrOM&amp\;__tn__=q" style="cursor: pointer\; text-decoration-line: none\; border-width: 0px\; border-style: initial\; border-color: initial\; outline: none\; list-style: none\; margin: 0px\; padding: 0px\; -webkit-tap-highlight-color: transparent\; font-weight: 600\; box-sizing: border-box\; touch-action: manipulation\; background-color: rgb(255\, 255\, 255)\; display: inline\; font-family: &quot\;Segoe UI Historic&quot\;\, &quot\;Segoe UI&quot\;\, Helvetica\, Arial\, sans-serif\; font-size: 15px\;" tabindex="0">#SSIHPCommittee</a><span style="background-color:rgb(255\, 255\, 255)\; color:rgb(5\, 5\, 5)\; font-family:segoe ui historic\,segoe ui\,helvetica\,arial\,sans-serif\; font-size:15px">&nbsp\;</span><a class="x1i10hfl xjbqb8w x6umtig x1b1mbwd xaqea5y xav7gou x9f619 x1ypdohk xt0psk2 xe8uvvx xdj266r x11i5rnm xat24cr x1mh8g0r xexx8yu x4uap5 x18d9i69 xkhd6sd x16tdsg8 x1hl2dhg xggy1nq x1a2a7pz xt0b8zv xzsf02u x1s688f" href="https://www.facebook.com/hashtag/italianstyle?__eep__=6&amp\;__cft__[0]=AZXuJmUmgnLpdd9GvGjXGSo5hXZivA_5rBEl1kAbI_RHeNNm75mKiJfdxPRLaxIh7qBA9crVyCGyDdmJqmwaps-bC447qx966-eNNTjP4p5DrmY1s4afpnLaTieQZLbKrOM&amp\;__tn__=q" style="cursor: pointer\; text-decoration-line: none\; border-width: 0px\; border-style: initial\; border-color: initial\; outline: none\; list-style: none\; margin: 0px\; padding: 0px\; -webkit-tap-highlight-color: transparent\; font-weight: 600\; box-sizing: border-box\; touch-action: manipulation\; background-color: rgb(255\, 255\, 255)\; display: inline\; font-family: &quot\;Segoe UI Historic&quot\;\, &quot\;Segoe UI&quot\;\, Helvetica\, Arial\, sans-serif\; font-size: 15px\;" tabindex="0">#Italianstyle</a><span style="background-color:rgb(255\, 255\, 255)\; color:rgb(5\, 5\, 5)\; font-family:segoe ui historic\,segoe ui\,helvetica\,arial\,sans-serif\; font-size:15px">&nbsp\;</span><a class="x1i10hfl xjbqb8w x6umtig x1b1mbwd xaqea5y xav7gou x9f619 x1ypdohk xt0psk2 xe8uvvx xdj266r x11i5rnm xat24cr x1mh8g0r xexx8yu x4uap5 x18d9i69 xkhd6sd x16tdsg8 x1hl2dhg xggy1nq x1a2a7pz xt0b8zv xzsf02u x1s688f" href="https://www.facebook.com/hashtag/italianamerican?__eep__=6&amp\;__cft__[0]=AZXuJmUmgnLpdd9GvGjXGSo5hXZivA_5rBEl1kAbI_RHeNNm75mKiJfdxPRLaxIh7qBA9crVyCGyDdmJqmwaps-bC447qx966-eNNTjP4p5DrmY1s4afpnLaTieQZLbKrOM&amp\;__tn__=q" style="cursor: pointer\; text-decoration-line: none\; border-width: 0px\; border-style: initial\; border-color: initial\; outline: none\; list-style: none\; margin: 0px\; padding: 0px\; -webkit-tap-highlight-color: transparent\; font-weight: 600\; box-sizing: border-box\; touch-action: manipulation\; background-color: rgb(255\, 255\, 255)\; display: inline\; font-family: &quot\;Segoe UI Historic&quot\;\, &quot\;Segoe UI&quot\;\, Helvetica\, Arial\, sans-serif\; font-size: 15px\;" tabindex="0">#ItalianAmerican</a><span style="background-color:rgb(255\, 255\, 255)\; color:rgb(5\, 5\, 5)\; font-family:segoe ui historic\,segoe ui\,helvetica\,arial\,sans-serif\; font-size:15px">&nbsp\;</span><a class="x1i10hfl xjbqb8w x6umtig x1b1mbwd xaqea5y xav7gou x9f619 x1ypdohk xt0psk2 xe8uvvx xdj266r x11i5rnm xat24cr x1mh8g0r xexx8yu x4uap5 x18d9i69 xkhd6sd x16tdsg8 x1hl2dhg xggy1nq x1a2a7pz xt0b8zv xzsf02u x1s688f" href="https://www.facebook.com/hashtag/italy?__eep__=6&amp\;__cft__[0]=AZXuJmUmgnLpdd9GvGjXGSo5hXZivA_5rBEl1kAbI_RHeNNm75mKiJfdxPRLaxIh7qBA9crVyCGyDdmJqmwaps-bC447qx966-eNNTjP4p5DrmY1s4afpnLaTieQZLbKrOM&amp\;__tn__=q" style="cursor: pointer\; text-decoration-line: none\; border-width: 0px\; border-style: initial\; border-color: initial\; outline: none\; list-style: none\; margin: 0px\; padding: 0px\; -webkit-tap-highlight-color: transparent\; font-weight: 600\; box-sizing: border-box\; touch-action: manipulation\; background-color: rgb(255\, 255\, 255)\; display: inline\; font-family: &quot\;Segoe UI Historic&quot\;\, &quot\;Segoe UI&quot\;\, Helvetica\, Arial\, sans-serif\; font-size: 15px\;" tabindex="0">#Italy</a><span style="background-color:rgb(255\, 255\, 255)\; color:rgb(5\, 5\, 5)\; font-family:segoe ui historic\,segoe ui\,helvetica\,arial\,sans-serif\; font-size:15px">&nbsp\;</span><a class="x1i10hfl xjbqb8w x6umtig x1b1mbwd xaqea5y xav7gou x9f619 x1ypdohk xt0psk2 xe8uvvx xdj266r x11i5rnm xat24cr x1mh8g0r xexx8yu x4uap5 x18d9i69 xkhd6sd x16tdsg8 x1hl2dhg xggy1nq x1a2a7pz xt0b8zv xzsf02u x1s688f" href="https://www.facebook.com/hashtag/italia?__eep__=6&amp\;__cft__[0]=AZXuJmUmgnLpdd9GvGjXGSo5hXZivA_5rBEl1kAbI_RHeNNm75mKiJfdxPRLaxIh7qBA9crVyCGyDdmJqmwaps-bC447qx966-eNNTjP4p5DrmY1s4afpnLaTieQZLbKrOM&amp\;__tn__=q" style="cursor: pointer\; text-decoration-line: none\; border-width: 0px\; border-style: initial\; border-color: initial\; outline: none\; list-style: none\; margin: 0px\; padding: 0px\; -webkit-tap-highlight-color: transparent\; font-weight: 600\; box-sizing: border-box\; touch-action: manipulation\; background-color: rgb(255\, 255\, 255)\; display: inline\; font-family: &quot\;Segoe UI Historic&quot\;\, &quot\;Segoe UI&quot\;\, Helvetica\, Arial\, sans-serif\; font-size: 15px\;" tabindex="0">#Italia</a><span style="background-color:rgb(255\, 255\, 255)\; color:rgb(5\, 5\, 5)\; font-family:segoe ui historic\,segoe ui\,helvetica\,arial\,sans-serif\; font-size:15px">&nbsp\;</span><a class="x1i10hfl xjbqb8w x6umtig x1b1mbwd xaqea5y xav7gou x9f619 x1ypdohk xt0psk2 xe8uvvx xdj266r x11i5rnm xat24cr x1mh8g0r xexx8yu x4uap5 x18d9i69 xkhd6sd x16tdsg8 x1hl2dhg xggy1nq x1a2a7pz xt0b8zv xzsf02u x1s688f" href="https://www.facebook.com/hashtag/italian?__eep__=6&amp\;__cft__[0]=AZXuJmUmgnLpdd9GvGjXGSo5hXZivA_5rBEl1kAbI_RHeNNm75mKiJfdxPRLaxIh7qBA9crVyCGyDdmJqmwaps-bC447qx966-eNNTjP4p5DrmY1s4afpnLaTieQZLbKrOM&amp\;__tn__=q" style="cursor: pointer\; text-decoration-line: none\; border-width: 0px\; border-style: initial\; border-color: initial\; outline: none\; list-style: none\; margin: 0px\; padding: 0px\; -webkit-tap-highlight-color: transparent\; font-weight: 600\; box-sizing: border-box\; touch-action: manipulation\; background-color: rgb(255\, 255\, 255)\; display: inline\; font-family: &quot\;Segoe UI Historic&quot\;\, &quot\;Segoe UI&quot\;\, Helvetica\, Arial\, sans-serif\; font-size: 15px\;" tabindex="0">#italian</a><span style="background-color:rgb(255\, 255\, 255)\; color:rgb(5\, 5\, 5)\; font-family:segoe ui historic\,segoe ui\,helvetica\,arial\,sans-serif\; font-size:15px">&nbsp\;</span>\n<div>&nbsp\;</div>\n
LOCATION:The East Side Post 201 Plantation Street Worcester\, MA 01604
UID:e.2083.16453
SEQUENCE:3
DTSTAMP:20260420T191002Z
URL:https://business.cmschamber.org/events/details/2nd-annual-shrewsbury-street-parade-day-meeting-for-business-owners-16453
END:VEVENT

END:VCALENDAR
