BEGIN:VCALENDAR
VERSION:2.0
PRODID:-//ChamberMaster//Event Calendar 2.0//EN
METHOD:PUBLISH
X-PUBLISHED-TTL:P3D
REFRESH-INTERVAL:P3D
CALSCALE:GREGORIAN
BEGIN:VEVENT
DTSTART:20211016T140000Z
DTEND:20211017T200000Z
X-MICROSOFT-CDO-ALLDAYEVENT:FALSE
SUMMARY:31st Annual Harvest Festival - CMS Chamber
DESCRIPTION:The 31st Annual Harvest Festival on the Sturbridge Town Common and grounds of the Publick House Historic Inn is a family fun tradition. The event includes countless local crafters\, artisans\, specialty food vendors and farm fresh harvests.\n\nThe Publick House's Scarecrow Contest is a perennial favorite. Enter your scarecrow for a chance to win incredible cash prizes. Scarecrow setup takes place at the end of September. Cast a vote for your favorites! The winners will be announced on Sunday at The Publick House.\n\nWith live music and magic shows on both days!\n\nCheck out the Entertainment and Food Truck lineups at http://cmschamber.ning.com/page/harvest-festival\n\nAdmission & Parking: Free\n\nFestival hours are 10am to 5pm on Saturday and 11am to 4pm on Sunday. Rain or Shine.\n\n\n\nHarvest Festival is presented by the Chamber of Central Mass South and The Publick House.\n\nHarvest Festival is Sponsored by Sturbridge Tourist Association.
X-ALT-DESC;FMTTYPE=text/html:<p><strong>The 31st Annual Harvest Festival</strong> on the Sturbridge Town Common and grounds of the Publick House Historic Inn&nbsp\;is a family fun tradition. The event includes countless local crafters\, artisans\, specialty food vendors and farm fresh harvests.</p>\n\n<p><strong>The Publick House&#39\;s Scarecrow Contest</strong>&nbsp\;is a perennial favorite. Enter your scarecrow for a chance to win incredible cash prizes. Scarecrow setup takes place at the end of September. Cast a vote for your favorites! The winners will be announced on Sunday at The Publick House.</p>\n\n<p>With live music and magic shows on both days!</p>\n\n<p>Check out the Entertainment and Food Truck lineups at http://cmschamber.ning.com/page/harvest-festival</p>\n\n<p><strong>Admission &amp\; Parking</strong>: <strong>Free</strong></p>\n\n<div><span style="color:#800000"><strong>Festival hours are 10am to 5pm on Saturday and 11am to 4pm on Sunday. Rain or Shine.</strong></span></div>\n\n<div><br />\n<span style="color:#800000"><span style="color:#333333">Harvest Festival is presented by the Chamber of Central Mass South and The Publick House.</span></span></div>\n\n<div><span style="color:#800000"><span style="color:#333333">Harvest Festival is Sponsored by Sturbridge Tourist Association.</span></span></div>\n
LOCATION:Sturbridge Town Common and grounds of The Publick House Historic Inn\, 277 Main Street\, Sturbridge\, MA 01566
UID:e.2083.13143
SEQUENCE:3
DTSTAMP:20260422T075228Z
URL:https://business.cmschamber.org/events/details/31st-annual-harvest-festival-cms-chamber-13143
END:VEVENT

END:VCALENDAR
