BEGIN:VCALENDAR
VERSION:2.0
PRODID:-//ChamberMaster//Event Calendar 2.0//EN
METHOD:PUBLISH
X-PUBLISHED-TTL:P3D
REFRESH-INTERVAL:P3D
CALSCALE:GREGORIAN
BEGIN:VEVENT
DTSTART:20230919T160000Z
DTEND:20230919T170000Z
X-MICROSOFT-CDO-ALLDAYEVENT:FALSE
SUMMARY:4 steps to increase diversity and inclusion to boost performance\, retention\, and loyalty.
DESCRIPTION:Discover the 4 steps to increase diversity and inclusion to boost performance\, retention\, and loyalty. Unlock the full potential of your company's culture with this exclusive webinar.
X-ALT-DESC;FMTTYPE=text/html:<span style="background-color:rgb(228\, 228\, 227)\; font-family:verdana\,geneva\,arial\,helvetica\,sans-serif\; font-size:24px">Discover the 4 steps to increase diversity and inclusion to boost performance\, retention\, and loyalty. Unlock the full potential of your company&#39\;s culture with this exclusive webinar.</span>
LOCATION:Register for this online event here: https://events.r20.constantcontact.com/register/eventReg?oeidk=a07ejxbhfzk33e429b7&oseq=&c=&ch=
UID:e.2083.16451
SEQUENCE:3
DTSTAMP:20260420T210349Z
URL:https://business.cmschamber.org/events/details/4-steps-to-increase-diversity-and-inclusion-to-boost-performance-retention-and-loyalty-16451
END:VEVENT

END:VCALENDAR
