BEGIN:VCALENDAR
VERSION:2.0
PRODID:-//ChamberMaster//Event Calendar 2.0//EN
METHOD:PUBLISH
X-PUBLISHED-TTL:P3D
REFRESH-INTERVAL:P3D
CALSCALE:GREGORIAN
BEGIN:VEVENT
DTSTART:20230715T170000Z
DTEND:20230716T000000Z
X-MICROSOFT-CDO-ALLDAYEVENT:FALSE
SUMMARY:4th Annual For One Child Golf Tournament
DESCRIPTION:This is a save the date for the annual golf tournament.\n\n\n\nBesides a great round of golf with friends and family\, there will\n\nbe an opportunity to meet new people\, network\, playing games and \n\na great meal afterwards.\n\n\n\nRaffles: prizes\, an auction and 50/50\n\n\n\nContests:\n\nClosest to the Pin \n\nLongest Drive \n\n\n\nSpecial Contests:\n\nPutting\n\nHole in One\n\n\n\nFor information related to golfers\, hole and table sponsors and raffle prizes please contact Melody Beach at \n\nmelody@melodybeachconsulting.com or Suzanne Longone at slonglond@gmail.com.\n\n\n\nMore details to follow very soon!
X-ALT-DESC;FMTTYPE=text/html:This is a save the date for the annual golf tournament.<br />\n<br />\nBesides a great round of golf with friends and family\, there will<br />\nbe an opportunity to meet new people\, network\, playing games and&nbsp\;<br />\na great meal afterwards.<br />\n<br />\n<strong>Raffles</strong>: prizes\, an auction and 50/50<br />\n<br />\n<strong>Contests:</strong><br />\nClosest to the Pin&nbsp\;<br />\nLongest Drive&nbsp\;<br />\n<br />\n<strong>Special Contests:</strong><br />\nPutting<br />\nHole in One<br />\n<br />\nFor information related to golfers\, hole and table sponsors and raffle prizes please contact Melody Beach at&nbsp\;<br />\nmelody@melodybeachconsulting.com or Suzanne Longone at&nbsp\;slonglond@gmail.com.<br />\n<br />\nMore details to follow very soon!
LOCATION:Pine Ridge Golf Club in North Oxford\, MA
UID:e.2083.15077
SEQUENCE:3
DTSTAMP:20260421T004929Z
URL:https://business.cmschamber.org/events/details/4th-annual-for-one-child-golf-tournament-15077
END:VEVENT

END:VCALENDAR
