BEGIN:VCALENDAR
VERSION:2.0
PRODID:-//ChamberMaster//Event Calendar 2.0//EN
METHOD:PUBLISH
X-PUBLISHED-TTL:P3D
REFRESH-INTERVAL:P3D
CALSCALE:GREGORIAN
BEGIN:VEVENT
DTSTART:20221027T203000Z
DTEND:20221027T230000Z
X-MICROSOFT-CDO-ALLDAYEVENT:FALSE
SUMMARY:6 Chamber B.A.S.H Business After Hours - Great Wolf Lodge
DESCRIPTION:Please join us for our popular\, MEGA Business After Hours which will bring together 6 area Chambers including - North Central Mass. Chamber\, Greater Gardner Area Chamber\,  Corridor Nine Chamber\, Nashoba Valley Chamber and North Quabbin Chamber.\n\nSpecial thanks to Great Wolf Lodge for hosting and sponsoring this signature event.
X-ALT-DESC;FMTTYPE=text/html:<p><span style="line-height: 20.79px\;">Please join us for our popular\, MEGA Business After Hours which will bring together 6&nbsp\;area Chambers including - North Central Mass. Chamber\, Greater&nbsp\;Gardner Area Chamber\,&nbsp\; Corridor Nine Chamber\,&nbsp\;</span>Nashoba<span style="line-height: 20.79px\;">&nbsp\;Valley Chamber and North Quabbin Chamber.</span></p>\n\n<p><span style="line-height: 20.79px\;">Special thanks to Great Wolf Lodge for hosting and sponsoring this signature event.</span><br />\n&nbsp\;</p>\n
LOCATION:Great Wolf Lodge 150 Great Wolf Drive Fitchburg\, MA 01420
UID:e.2083.13937
SEQUENCE:3
DTSTAMP:20260421T142513Z
URL:https://business.cmschamber.org/events/details/6-chamber-b-a-s-h-business-after-hours-great-wolf-lodge-13937
END:VEVENT

END:VCALENDAR
