BEGIN:VCALENDAR
VERSION:2.0
PRODID:-//ChamberMaster//Event Calendar 2.0//EN
METHOD:PUBLISH
X-PUBLISHED-TTL:P3D
REFRESH-INTERVAL:P3D
CALSCALE:GREGORIAN
BEGIN:VEVENT
DTSTART:20221122T230000Z
DTEND:20221123T013000Z
X-MICROSOFT-CDO-ALLDAYEVENT:FALSE
SUMMARY:8-Semanas - Programa de Reducción de Estrés Basado en Mindfulness (MBSR) en Español En Línea
DESCRIPTION:About the event\n\n\n\n\nEnmarcado en el contexto de la medicina cuerpo/mente integrativa\, el programa de Reducci n de Estr s Basado en Mindfulness o MBSR (Mindfulness Based Stress Reduction) es una intervenci n cient ficamente validada para prevenir y enfrentar los s ntomas de estr s y ansiedad mediante el desarrollo de habilidades mindfulness o de atenci n plena. El MBSR\, terapia de tercera generaci n\, se inspira en las pr cticas de tradici n meditativa v nculadas con el mindfulness y en los adelantos de la psicolog a moderna. Fue desarrollado por el Dr. Jon Kabat-Zinn hace m s de 40 a os en el Center for Mindfulness de la Facultad de Medicina de la Universidad de Massachusetts y desde entonces se ha expandido por todo el mundo gracias a su documentado e investigado trabajo cient fico para ayudar a las personas a recuperar su bienestar interior y calidad de vida.\n\n \n\nParticipantes necesitan completar  ste Cuestionario Preliminar.\n\nParticipantes necesitan asistir a UNA Orientaci n de 90-minutos:\n\nMartes\, 4 de Octubre\, 2022 - 6:00 p.m.-7:30 p.m. hora de Boston\n\nMartes\, 11 de Octubre\, 2022 - 6:00 p.m.-7:30 p.m. hora de Boston\n\n \n\nDias y hora de la Clase:\n\n6:00 p.m.-8:30-9:00 p.m. hora de Boston\n\nMartes\, 18 y 25 de Octubre\; Martes\, 1\, 8\, 15\, 22\, 29 de Noviembre\; y Martes\, 6 de Diciembre.\n\n \n\nD a de Retiro:\n\nS bado\, 19 de Noviembre\n\n \n\nObjetivos de Aprendizaje\n\n-Reducci n duradera de los s ntomas f sicos y psicol gicos asociados al estr s.\n\n-Mejora capacidad de gestionar la ansiedad y la depresi n.\n\n-Mayor capacidad para relajarse y cultivar estados profundos de relajaci n.\n\n-Mejora los s ntomas de burnout. \n\n-Mayor capacidad de liberar pensamientos y h bitos negativos.\n\n-Mayor bienestar\, energ a y entusiasmo en la vida: aprender a estar presente y apreciar los peque os placeres de la vida cotidiana.\n\n-Mejora de la autoestima\n\nPrograma experiencial para grupos grandes y peque os\, que ofrece entrenamiento sistem tico en pr cticas de mindfulness y meditaci n. El curso est ndar de MBSR consiste en 8 sesiones semanales de 2.5 a 3 horas por sesi n. Adicionalmente\, el curso incluye una sesi n de retiro por un d a completo luego de la quinta o sexta semana.\n\nCada sesi n conmienza con ejercicios de mindfulness que los participantes han aprendido en las sesiones semanales. Los ejercicios del programa incluyen: el escaneo corporal\, yoga suave y meditaci n sentada.  A trav s del programa\, participantes practican uno de estos ejercicios todos los d as. Se incorporan otros ejercicios adicionales que cultivan la pr ctica de mindfulness en la vida diaria. Estos ejercicios ayudan a entrenar la atenci n plena relacionada a pensamientos\, sensaciones y emociones.\n\nCada sesi n se enfoca en la exploraci n de un tema acompa ado por ejercicios espec ficos\, adem s de presentaciones por el facilitador y di logos entre los participantes. Algunos temas del programa de MBSR incluye: comunicaci n\, el manejo de emociones intensas\, y la influencia de nuestra percepci n en nuestras relaciones interpersonales y manejo del estr s.\n\nLos participantes comparten su experiencia mientras exploran los ejercicios y a lo largo del desarrollo de su pr ctica de meditaci n y mindfulness fuera del curso.\n\nEste programa es apropiado para personas interesadas en aprender a meditar y a incorporar mindfulness en su vida diaria\, incluyendo profesionales de salud mental y educadores.
X-ALT-DESC;FMTTYPE=text/html:<h2>About the event</h2>\n\n<div style="background:transparent\; border:0px\; padding:0px">\n<div style="background:transparent\; border:0px\; padding:0px">\n<div style="background:transparent\; border:0px\; padding:0px">\n<p>Enmarcado en el contexto de la medicina cuerpo/mente integrativa\, el programa de Reducci&oacute\;n de Estr&eacute\;s Basado en Mindfulness o MBSR (Mindfulness Based Stress Reduction) es una intervenci&oacute\;n cient&iacute\;ficamente validada para prevenir y enfrentar los s&iacute\;ntomas de estr&eacute\;s y ansiedad mediante el desarrollo de habilidades mindfulness o de atenci&oacute\;n plena. El MBSR\, terapia de tercera generaci&oacute\;n\, se inspira en las pr&aacute\;cticas de tradici&oacute\;n meditativa v&iacute\;nculadas con el mindfulness y en los adelantos de la psicolog&iacute\;a moderna. Fue desarrollado por el Dr. Jon Kabat-Zinn hace m&aacute\;s de 40 a&ntilde\;os en el Center for Mindfulness de la Facultad de Medicina de la Universidad de Massachusetts y desde entonces se ha expandido por todo el mundo gracias a su documentado e investigado trabajo cient&iacute\;fico para ayudar a las personas a recuperar su bienestar interior y calidad de vida.</p>\n\n<p>&nbsp\;</p>\n\n<p>Participantes necesitan completar &eacute\;ste&nbsp\;<a href="https://forms.gle/R9QeosDEk7hXB2VK6" rel="noopener noreferrer noopener noreferrer noopener noreferrer" style="margin: 0px\; padding: 0px\; border: 0px\; outline: 0px\; vertical-align: baseline\; background: transparent\; cursor: pointer\; text-decoration-line: none\; color: rgb(171\, 114\, 96)\;" tabindex="0" target="_blank">Cuestionario Preliminar</a>.</p>\n\n<p>Participantes necesitan asistir a UNA Orientaci&oacute\;n de 90-minutos:</p>\n\n<p>Martes\, 4 de Octubre\, 2022 - 6:00 p.m.-7:30 p.m. hora de Boston</p>\n\n<p>Martes\, 11 de Octubre\, 2022 - 6:00 p.m.-7:30 p.m. hora de Boston</p>\n\n<p>&nbsp\;</p>\n\n<p>Dias y hora de la Clase:</p>\n\n<p>6:00 p.m.-8:30-9:00 p.m. hora de Boston</p>\n\n<p>Martes\, 18 y 25 de Octubre\; Martes\, 1\, 8\, 15\, 22\, 29 de Noviembre\; y Martes\, 6 de Diciembre.</p>\n\n<p>&nbsp\;</p>\n\n<p>D&iacute\;a de Retiro:</p>\n\n<p>S&aacute\;bado\, 19 de Noviembre</p>\n\n<p>&nbsp\;</p>\n\n<p>Objetivos de Aprendizaje</p>\n\n<p>-Reducci&oacute\;n duradera de los s&iacute\;ntomas f&iacute\;sicos y psicol&oacute\;gicos asociados al estr&eacute\;s.</p>\n\n<p>-Mejora capacidad de gestionar la ansiedad y la depresi&oacute\;n.</p>\n\n<p>-Mayor capacidad para relajarse y cultivar estados profundos de relajaci&oacute\;n.</p>\n\n<p>-Mejora los s&iacute\;ntomas de burnout.&nbsp\;</p>\n\n<p>-Mayor capacidad de liberar pensamientos y h&aacute\;bitos negativos.</p>\n\n<p>-Mayor bienestar\, energ&iacute\;a y entusiasmo en la vida: aprender a estar presente y apreciar los peque&ntilde\;os placeres de la vida cotidiana.</p>\n\n<p>-Mejora de la autoestima</p>\n\n<p>Programa experiencial para grupos grandes y peque&ntilde\;os\, que ofrece entrenamiento sistem&aacute\;tico en pr&aacute\;cticas de mindfulness y meditaci&oacute\;n. El curso est&aacute\;ndar de MBSR consiste en 8 sesiones semanales de 2.5 a 3 horas por sesi&oacute\;n. Adicionalmente\, el curso incluye una sesi&oacute\;n de retiro por un d&iacute\;a completo luego de la quinta o sexta semana.</p>\n\n<p>Cada sesi&oacute\;n conmienza con ejercicios de mindfulness que los participantes han aprendido en las sesiones semanales. Los ejercicios del programa incluyen: el escaneo corporal\, yoga suave y meditaci&oacute\;n sentada. &nbsp\;A trav&eacute\;s del programa\, participantes practican uno de estos ejercicios todos los d&iacute\;as. Se incorporan otros ejercicios adicionales que cultivan la pr&aacute\;ctica de mindfulness en la vida diaria. Estos ejercicios ayudan a entrenar la atenci&oacute\;n plena relacionada a pensamientos\, sensaciones y emociones.</p>\n\n<p>Cada sesi&oacute\;n se enfoca en la exploraci&oacute\;n de un tema acompa&ntilde\;ado por ejercicios espec&iacute\;ficos\, adem&aacute\;s de presentaciones por el facilitador y di&aacute\;logos entre los participantes. Algunos temas del programa de MBSR incluye: comunicaci&oacute\;n\, el manejo de emociones intensas\, y la influencia de nuestra percepci&oacute\;n en nuestras relaciones interpersonales y manejo del estr&eacute\;s.</p>\n\n<p>Los participantes comparten su experiencia mientras exploran los ejercicios y a lo largo del desarrollo de su pr&aacute\;ctica de meditaci&oacute\;n y mindfulness fuera del curso.</p>\n\n<p>Este programa es apropiado para personas interesadas en aprender a meditar y a incorporar mindfulness en su vida diaria\, incluyendo profesionales de salud mental y educadores.</p>\n</div>\n</div>\n</div>\n
LOCATION:en Zoom
UID:e.2083.14009
SEQUENCE:3
DTSTAMP:20260421T143830Z
URL:https://business.cmschamber.org/events/details/8-semanas-programa-de-reducci&#243;n-de-estr&#233;s-basado-en-mindfulness-mbsr-en-espa&#241;ol-en-l&#237;nea-11-22-2022-14009
END:VEVENT

END:VCALENDAR
