BEGIN:VCALENDAR
VERSION:2.0
PRODID:-//ChamberMaster//Event Calendar 2.0//EN
METHOD:PUBLISH
X-PUBLISHED-TTL:P3D
REFRESH-INTERVAL:P3D
CALSCALE:GREGORIAN
BEGIN:VEVENT
DTSTART:20221103T220000Z
DTEND:20221104T003000Z
X-MICROSOFT-CDO-ALLDAYEVENT:FALSE
SUMMARY:8-Week Mindfulness Based Stress Reduction (MBSR) English Session Online
DESCRIPTION:About the event\n\n\n\n\nThe 8-week stress reduction program was initially targeted to individuals with chronic health problems\, helping them to cope with the effects of pain\, illness and the impact of these conditions on their lives. Today MBSR is taught to people throughout the world who are experiencing challenges in all areas of life. Professionals can earn 26 Continuing Education Credits (CEUs) upon completion.\n\n \n\nThe motivation for many to enroll in MBSR begins with a sense of wanting to live in a way that\n\nincorporates key aspects of mindfulness\, presence\, awareness\, and a sense of being in touch with oneself\n\nand the life around. Through the regular training in mindfulness that an MBSR course offers\, participants\n\nbecome familiar with their own behavior patterns\, especially in relation to stressful situations. They also\n\nlearn that though they cannot always change the circumstances in which they find themselves\, they can\n\nchoose how to respond to them. In MBSR this process is described as going from reacting to responding\,\n\nwith the latter involving a clearer perception of the circumstances through being in touch with the\n\nthoughts\, sensations and emotions that are present.\n\n \n\nAttendees must complete this Pre-Course Questionnaire.\n\nAttendees must attend ONE 90-minute Orientation:\n\nThursday\, October 6\, 2022 - 6:00 p.m.-7:30 p.m. OR\n\nThursday\, October 13\, 2022 - 6:00 p.m.-7:30 p.m. \n\n \n\nClass Days and Times:\n\n6:00 p.m.-8:30-9:00 p.m. EST\n\nThursday\, October 20\, 27\; Thursday\, November 3\, 10\, 17\; and Thursday\, December 1\, 8\, 15.\n\n \n\nDay-long Retreat:\n\nSunday\, November 20\n\n \n\nParticipants will learn:\n\n1. A broad repertoire of informal and formal meditation and mindfulness practices and cultivate a\n\nsystematic way to integrate them in their everyday lives.\n\n2. Approach your life with more composure\, energy\, understanding and enthusiasm.\n\n3. Develop the ability to cope more effectively with both short-term and long-term stressful\n\nsituations\, gaining insight into response rather than reaction.\n\n4. Enhance your ability to manage and reduce pain levels.\n\n5. Improve your focus\, resilience\, and capacity to recover quickly from challenging events.\n\n6. Cultivate a natural capacity to actively engage in caring for yourself and find greater balance\, ease\,\n\nand peace of mind.\n\n7. Articulate the key aspects of mindfulness as it relates to stress reduction\, coping with pain and\n\nillness and enhancing well-being\n\n8. Practice and apply mindfulness techniques in both personal and professional settings as a means of\n\ncontending more effectively with the demands of life\, and to facilitate more effective and mindful\n\ncommunication
X-ALT-DESC;FMTTYPE=text/html:<h2>About the event</h2>\n\n<div style="background:transparent\; border:0px\; padding:0px">\n<div style="background:transparent\; border:0px\; padding:0px">\n<div style="background:transparent\; border:0px\; padding:0px">\n<p>The 8-week stress reduction program was initially targeted to individuals with chronic health problems\, helping them to cope with the effects of pain\, illness and the impact of these conditions on their lives. Today MBSR is taught to people throughout the world who are experiencing challenges in all areas of life. Professionals can earn 26 Continuing Education Credits (CEUs) upon completion.</p>\n\n<p>&nbsp\;</p>\n\n<p>The motivation for many to enroll in MBSR begins with a sense of wanting to live in a way that</p>\n\n<p>incorporates key aspects of mindfulness\, presence\, awareness\, and a sense of being in touch with oneself</p>\n\n<p>and the life around. Through the regular training in mindfulness that an MBSR course offers\, participants</p>\n\n<p>become familiar with their own behavior patterns\, especially in relation to stressful situations. They also</p>\n\n<p>learn that though they cannot always change the circumstances in which they find themselves\, they can</p>\n\n<p>choose how to respond to them. In MBSR this process is described as going from reacting to responding\,</p>\n\n<p>with the latter involving a clearer perception of the circumstances through being in touch with the</p>\n\n<p>thoughts\, sensations and emotions that are present.</p>\n\n<p>&nbsp\;</p>\n\n<p>Attendees must complete&nbsp\;<a href="https://forms.gle/NyjXfewcNgx1d7qs6" rel="noopener noreferrer noopener noreferrer" style="margin: 0px\; padding: 0px\; border: 0px\; outline: 0px\; vertical-align: baseline\; background: transparent\; cursor: pointer\; text-decoration-line: none\; color: rgb(171\, 114\, 96)\;" tabindex="0" target="_blank">this Pre-Course Questionnaire</a>.</p>\n\n<p>Attendees must attend ONE 90-minute Orientation:</p>\n\n<p>Thursday\, October 6\, 2022 - 6:00 p.m.-7:30 p.m. OR</p>\n\n<p>Thursday\, October 13\, 2022 - 6:00 p.m.-7:30 p.m.&nbsp\;</p>\n\n<p>&nbsp\;</p>\n\n<p>Class Days and Times:</p>\n\n<p>6:00 p.m.-8:30-9:00 p.m. EST</p>\n\n<p>Thursday\, October 20\, 27\; Thursday\, November 3\, 10\, 17\; and Thursday\, December 1\, 8\, 15.</p>\n\n<p>&nbsp\;</p>\n\n<p>Day-long Retreat:</p>\n\n<p>Sunday\, November 20</p>\n\n<p>&nbsp\;</p>\n\n<p>Participants will learn:</p>\n\n<p>1. A broad repertoire of informal and formal meditation and mindfulness practices and cultivate a</p>\n\n<p>systematic way to integrate them in their everyday lives.</p>\n\n<p>2. Approach your life with more composure\, energy\, understanding and enthusiasm.</p>\n\n<p>3. Develop the ability to cope more effectively with both short-term and long-term stressful</p>\n\n<p>situations\, gaining insight into response rather than reaction.</p>\n\n<p>4. Enhance your ability to manage and reduce pain levels.</p>\n\n<p>5. Improve your focus\, resilience\, and capacity to recover quickly from challenging events.</p>\n\n<p>6. Cultivate a natural capacity to actively engage in caring for yourself and find greater balance\, ease\,</p>\n\n<p>and peace of mind.</p>\n\n<p>7. Articulate the key aspects of mindfulness as it relates to stress reduction\, coping with pain and</p>\n\n<p>illness and enhancing well-being</p>\n\n<p>8. Practice and apply mindfulness techniques in both personal and professional settings as a means of</p>\n\n<p>contending more effectively with the demands of life\, and to facilitate more effective and mindful</p>\n\n<p>communication</p>\n</div>\n</div>\n</div>\n
LOCATION:on Zoom
UID:e.2083.14014
SEQUENCE:3
DTSTAMP:20260421T143615Z
URL:https://business.cmschamber.org/events/details/8-week-mindfulness-based-stress-reduction-mbsr-english-session-online-11-03-2022-14014
END:VEVENT

END:VCALENDAR
