BEGIN:VCALENDAR
VERSION:2.0
PRODID:-//ChamberMaster//Event Calendar 2.0//EN
METHOD:PUBLISH
X-PUBLISHED-TTL:P3D
REFRESH-INTERVAL:P3D
CALSCALE:GREGORIAN
BEGIN:VEVENT
DTSTART:20230729T170000Z
DTEND:20230730T000000Z
X-MICROSOFT-CDO-ALLDAYEVENT:FALSE
SUMMARY:8th Annual Summer Gospel Fest
DESCRIPTION:It is that time of year again for our fabulous Annual Summer Gospel Fest! Our 8th Year at that!\n\nThis melodious festival includes many attractions right in the heart of the city\, including live performances\, partnerships with diverse and locally owned small businesses\, free health and wellness services\, free activities and giveaways\, and more. We is committed to giving back\, serving\, and celebrating the diversity of our community.\n\n\n\nIf you are interested in being a vendor or for sponsorship opportunities\, please feel free to reach out.
X-ALT-DESC;FMTTYPE=text/html:<p>It is that time of year again for our fabulous&nbsp\;<strong>Annual Summer Gospel Fest!&nbsp\;</strong>Our 8th Year at that!</p>\n\n<p>This melodious festival includes many attractions right in the heart of the city\, including live performances\, partnerships with diverse and locally owned small businesses\, free health and wellness services\, free activities and giveaways\, and more. We is committed to giving back\, serving\, and celebrating the diversity of our community.<br />\n<br />\nIf you are interested in being a vendor or for sponsorship opportunities\, please feel free to reach out.</p>\n
LOCATION:Worcester City Hall and Common 455 Main Street Worcester\, MA
UID:e.2083.15952
SEQUENCE:3
DTSTAMP:20260420T224925Z
URL:https://business.cmschamber.org/events/details/8th-annual-summer-gospel-fest-15952
END:VEVENT

END:VCALENDAR
