BEGIN:VCALENDAR
VERSION:2.0
PRODID:-//ChamberMaster//Event Calendar 2.0//EN
METHOD:PUBLISH
X-PUBLISHED-TTL:P3D
REFRESH-INTERVAL:P3D
CALSCALE:GREGORIAN
BEGIN:VEVENT
DTSTART:20230822T170000Z
DTEND:20230822T183000Z
X-MICROSOFT-CDO-ALLDAYEVENT:FALSE
SUMMARY:A Beginner’s Guide to Canva
DESCRIPTION:If you're looking to get an edge on marketing your business especially on social media graphic design is a great way to stand out from the competition. And now with Canva\, it's free! This webinar is ideal for business owners and marketers who want to expand their social media presence with stand-out graphic design images and branding   all without having a graphic designer on staff. However\, like with all graphic design platforms\, you'll need to learn from the pros to best use it.\n\nVision Advertising's Communications Manager (and graphic designer!) Catrina Gardner is here to help you learn the basics with a Canva tutorial from start to finish with an eye for brand marketing and social media\, including:\n\n\n	Booting up Canva and understanding the UI and tools.\n	Using Canva templates and making them your own with branding.\n	Using the right graphics\, colors\, and font for your brand and message.\n	What to include on specific types of social media graphics.\n	Picking the right graphic types and dimensions for different social media platforms.\n\n\n \n\nMeet the Instructor:\n\nCatrina Gardner is an experienced\, design-driven marketing professional. As a communications manager at Vision Advertising\, she help clients achieve success via social marketing strategy\, design\, and public relations. With a degree in graphic design & studio art\, Catrina has a notable background in print design. her designs have been sold at Homegoods\, Bed Bath & Beyond\, and in small d cor shops across the country.
X-ALT-DESC;FMTTYPE=text/html:<p>If you&rsquo\;re looking to get an edge on marketing your business&mdash\;especially on social media&mdash\;graphic design is a great way to stand out from the competition. And now with Canva\, it&rsquo\;s free! This webinar is ideal for business owners and marketers who want to expand their social media presence with stand-out graphic design images and branding &ndash\; all without having a graphic designer on staff. However\, like with all graphic design platforms\, you&rsquo\;ll need to learn from the pros to best use it.</p>\n\n<p>Vision Advertising&rsquo\;s Communications Manager (and graphic designer!) Catrina Gardner is here to help you learn the basics with a Canva tutorial from start to finish with an eye for brand marketing and social media\, including:</p>\n\n<ul>\n	<li>Booting up Canva and understanding the UI and tools.</li>\n	<li>Using Canva templates and making them your own with branding.</li>\n	<li>Using the right graphics\, colors\, and font for your brand and message.</li>\n	<li>What to include on specific types of social media graphics.</li>\n	<li>Picking the right graphic types and dimensions for different social media platforms.</li>\n</ul>\n\n<p>&nbsp\;</p>\n\n<p>Meet the Instructor:</p>\n\n<p>Catrina Gardner is an experienced\, design-driven marketing professional. As a communications manager at Vision Advertising\, she help clients achieve success via social marketing strategy\, design\, and public relations. With a degree in graphic design &amp\; studio art\, Catrina has a notable background in print design. her designs have been sold at Homegoods\, Bed Bath &amp\; Beyond\, and in small d&eacute\;cor shops across the country.</p>\n
LOCATION:Online
UID:e.2083.16055
SEQUENCE:3
DTSTAMP:20260420T210032Z
URL:https://business.cmschamber.org/events/details/a-beginner-s-guide-to-canva-16055
END:VEVENT

END:VCALENDAR
