BEGIN:VCALENDAR
VERSION:2.0
PRODID:-//ChamberMaster//Event Calendar 2.0//EN
METHOD:PUBLISH
X-PUBLISHED-TTL:P3D
REFRESH-INTERVAL:P3D
CALSCALE:GREGORIAN
BEGIN:VEVENT
DTSTART:20231026T161500Z
DTEND:20231026T173000Z
X-MICROSOFT-CDO-ALLDAYEVENT:FALSE
SUMMARY:A Lunch and Learn - Exploring the Pathway to Violence in the Workplace
DESCRIPTION:I am inviting 10 people from 10 different businesses to have lunch on me.  The only catch is you have to learn something new.  We will be discussing how active attacks and workplace violence is affecting organizations from around the country.  This epidemic of violence is increasing\, and your company should know how to defend against it.  \n\n\n\nA little about Jon Cross\n\nI am the Director of Operations for ProActive Response Group.  Before my joining PRG I was in defense contracting and law enforcement.  My passion comes from the need to serve and protect.  Come to lunch and I will tell you more about my hot air ballooning and motorcycle racing.
X-ALT-DESC;FMTTYPE=text/html:I am inviting 10 people from 10 different businesses to have lunch on me.&nbsp\; The only catch is you have to learn something new.&nbsp\; We will be discussing how active attacks and workplace violence is affecting organizations from around the country.&nbsp\; This epidemic of violence is increasing\, and your company should know how to defend against it.&nbsp\;&nbsp\;<br />\n<br />\nA little about Jon Cross<br />\nI am the Director of Operations for ProActive Response Group.&nbsp\; Before my joining PRG I was in defense contracting and law enforcement.&nbsp\; My passion comes from the need to serve and protect.&nbsp\; Come to lunch and I will tell you more about my hot air ballooning and motorcycle racing.
LOCATION:The Fix 108 Grove St\, Worcester\, MA 01605
UID:e.2083.16462
SEQUENCE:3
DTSTAMP:20260420T171113Z
URL:https://business.cmschamber.org/events/details/a-lunch-and-learn-exploring-the-pathway-to-violence-in-the-workplace-16462
END:VEVENT

END:VCALENDAR
