BEGIN:VCALENDAR
VERSION:2.0
PRODID:-//ChamberMaster//Event Calendar 2.0//EN
METHOD:PUBLISH
X-PUBLISHED-TTL:P3D
REFRESH-INTERVAL:P3D
CALSCALE:GREGORIAN
BEGIN:VEVENT
DTSTART:20240221T170000Z
DTEND:20240221T183000Z
X-MICROSOFT-CDO-ALLDAYEVENT:FALSE
SUMMARY:Accounting for Non-Accountants
DESCRIPTION:Most people get into business because they love the thing they do\, not because they love the spreadsheets. If that's you\, you are in the right place! This class will help you feel grounded in the financial aspects of your business! \n\nThe numbers tell a story - do you know how to read it?\n\nIn this workshop\, participants will learn:\n\n\n	How to read and understand basic financial statements\n	How to use the numbers to make well informed operational decisions
X-ALT-DESC;FMTTYPE=text/html:<p><span style="font-size:12pt">Most people get into business because they love the thing they do\, not because they love the spreadsheets. If that&#39\;s you\, you are in the right place! This class will help you feel grounded in the financial aspects of your business!&nbsp\;</span></p>\n\n<p><span style="font-size:12pt">The numbers tell a story - do you know how to read it?</span></p>\n\n<p><span style="font-size:12pt">In this workshop\, participants will learn:</span></p>\n\n<ul>\n	<li><span style="font-size:12pt">How to read and understand basic financial statements</span></li>\n	<li><span style="font-size:12pt">How to use the numbers to make well informed operational decisions</span></li>\n</ul>\n
LOCATION:Virtual
UID:e.2083.17245
SEQUENCE:3
DTSTAMP:20260420T120705Z
URL:https://business.cmschamber.org/events/details/accounting-for-non-accountants-02-21-2024-17245
END:VEVENT

END:VCALENDAR
