BEGIN:VCALENDAR
VERSION:2.0
PRODID:-//ChamberMaster//Event Calendar 2.0//EN
METHOD:PUBLISH
X-PUBLISHED-TTL:P3D
REFRESH-INTERVAL:P3D
CALSCALE:GREGORIAN
BEGIN:VEVENT
DTSTART:20231016T130000Z
DTEND:20231016T150000Z
X-MICROSOFT-CDO-ALLDAYEVENT:FALSE
SUMMARY:Accounting for Non-Accountants
DESCRIPTION:Many entrepreneurs detest the financial piece of their business\, but they don't discount its importance. The numbers tell a story - do you know how to read it?\n\nIn this workshop\, participants will learn:\n\n\n	How to read and understand basic financial statements\n	How to use the numbers to make well informed operational decisions
X-ALT-DESC;FMTTYPE=text/html:<p><span style="color:rgb(0\, 0\, 0)\; font-family:tahoma\,arial\,helvetica\,sans-serif\; font-size:12pt">Many entrepreneurs detest the financial piece of their business\, but they don&rsquo\;t discount its importance. The numbers tell a story - do you know how to read it?</span></p>\n\n<p><span style="color:rgb(0\, 0\, 0)\; font-family:tahoma\,arial\,helvetica\,sans-serif\; font-size:12pt">In this workshop\, participants will learn:</span></p>\n\n<ul>\n	<li><span style="color:rgb(0\, 0\, 0)\; font-family:tahoma\,arial\,helvetica\,sans-serif\; font-size:12pt">How to read and understand basic financial statements</span></li>\n	<li><span style="color:rgb(0\, 0\, 0)\; font-family:tahoma\,arial\,helvetica\,sans-serif\; font-size:12pt">How to use the numbers to make well informed operational decisions</span></li>\n</ul>\n
LOCATION:Zoom
UID:e.2083.16676
SEQUENCE:3
DTSTAMP:20260420T190753Z
URL:https://business.cmschamber.org/events/details/accounting-for-non-accountants-10-16-2023-16676
END:VEVENT

END:VCALENDAR
