BEGIN:VCALENDAR
VERSION:2.0
PRODID:-//ChamberMaster//Event Calendar 2.0//EN
METHOD:PUBLISH
X-PUBLISHED-TTL:P3D
REFRESH-INTERVAL:P3D
CALSCALE:GREGORIAN
BEGIN:VEVENT
DTSTART:20220913T160000Z
DTEND:20220913T170000Z
X-MICROSOFT-CDO-ALLDAYEVENT:FALSE
SUMMARY:Accounting for Non-Accountants
DESCRIPTION:Many entrepreneurs detest the financial piece of their business.  But\, they don't discount its importance. \n\nIn this workshop\, participants will learn:\n\n\n	How to read and understand basic financial statements\n	How to use the numbers to make well informed operational decisions\n\n\nThe numbers tell a story\; do you know how to read it?
X-ALT-DESC;FMTTYPE=text/html:<p>Many entrepreneurs detest the financial piece of their business.&nbsp\; But\, they don&rsquo\;t discount its importance.&nbsp\;</p>\n\n<p>In this workshop\, participants will learn:</p>\n\n<ul>\n	<li>How to read and understand basic financial statements</li>\n	<li>How to use the numbers to make well informed operational decisions</li>\n</ul>\n\n<p>The numbers tell a story\; do you know how to read it?</p>\n
LOCATION:Zoom webinar.
UID:e.2083.14054
SEQUENCE:3
DTSTAMP:20260421T154720Z
URL:https://business.cmschamber.org/events/details/accounting-for-non-accountants-14054
END:VEVENT

END:VCALENDAR
