BEGIN:VCALENDAR
VERSION:2.0
PRODID:-//ChamberMaster//Event Calendar 2.0//EN
METHOD:PUBLISH
X-PUBLISHED-TTL:P3D
REFRESH-INTERVAL:P3D
CALSCALE:GREGORIAN
BEGIN:VEVENT
DTSTART:20211208T180000Z
DTEND:20211208T193000Z
X-MICROSOFT-CDO-ALLDAYEVENT:FALSE
SUMMARY:Addressing Employee Substance Use & Mental Illness in a Virtual World
DESCRIPTION:Given the recently published data of overdose deaths and the increased rates of mental illness sweeping our nation\, this is a very timely topic that is geared towards keeping our employees healthy and our workplaces safe.  The presenter is our very own\, Ryan West\, Director of Corporate Training with ARCpoint Labs.   I've attached a registration flyer that includes additional information.
X-ALT-DESC;FMTTYPE=text/html:<span style="color:black"><span style="font-family:century gothic\,sans-serif"><span style="font-size:11.0pt">Given the recently published data of overdose deaths and the increased rates of mental illness sweeping our nation\, this is a very timely topic that is geared towards keeping our employees healthy and our workplaces safe.&nbsp\; The presenter is our very own\, Ryan West\, Director of Corporate Training with ARCpoint Labs.&nbsp\; &nbsp\;I&#39\;ve attached a registration flyer&nbsp\;that includes additional information.&nbsp\; </span></span></span>
LOCATION:Webinar om 12/08/2021 from 1:00PM EST to 2:30PM EST. Spaces are limited so register today! https://lnkd.in/eC5eqJeP
UID:e.2083.13657
SEQUENCE:3
DTSTAMP:20260422T051323Z
URL:https://business.cmschamber.org/events/details/addressing-employee-substance-use-mental-illness-in-a-virtual-world-13657
END:VEVENT

END:VCALENDAR
