BEGIN:VCALENDAR
VERSION:2.0
PRODID:-//ChamberMaster//Event Calendar 2.0//EN
METHOD:PUBLISH
X-PUBLISHED-TTL:P3D
REFRESH-INTERVAL:P3D
CALSCALE:GREGORIAN
BEGIN:VEVENT
DTSTART;VALUE=DATE:20210127
DTEND;VALUE=DATE:20210331
TRANSP:TRANSPARENT
X-MICROSOFT-CDO-ALLDAYEVENT:TRUE
SUMMARY:ADHD Classroom Inventions For Teachers Workshop
DESCRIPTION:Do you have students with ADHD in your classroom? Do you feel challenged to find the balance between the needs of your class and helping the student with ADHD learn effectively? You are not alone. This 4-hour workshop will confirm that teachers play in the lives of their students with ADHD and will provide proven strategies for teaching students.\n\nThroughout the workshop\, teachers will learn different strategies to assist students with ADHD on topics such as organization and time management\, reducing typical ADHD behavior problems\, explore different classroom and instructional strategies that work for you and the students with ADHD that you work with such as addressing memory deficits\, improving reading and writing skills\, fostering math skills\, homework and long term projects.\n\nThis workshop is on-going so if your school or organization is interested in this and would like to know more please go to http://www.neverdefeatedcoaching.net/adhdclassroominventions4teachers/
X-ALT-DESC;FMTTYPE=text/html:<h3><span style="font-size:14px"><span style="font-family:verdana">Do you have students with ADHD in your classroom? Do you feel challenged to find the balance between the needs of your class and helping the student with ADHD learn effectively? You are not alone. This 4-hour workshop will confirm that teachers play in the lives of their students with ADHD and will provide proven strategies for teaching students.</span></span></h3>\n\n<h3><span style="font-size:14px"><span style="font-family:verdana">Throughout the workshop\, teachers will learn different strategies to assist students with ADHD on topics such as organization and time management\, reducing typical ADHD behavior problems\, explore different classroom and instructional strategies that work for you and the students with ADHD that you work with such as addressing memory deficits\, improving reading and writing skills\, fostering math skills\, homework and long term projects.</span></span></h3>\n\n<p><span style="font-family:verdana"><span style="font-size:14px"><em><strong>This workshop is on-going so if your school or organization is interested in this and would like to know more please go to </strong></em><span style="font-family:times new roman"><a href="http://www.neverdefeatedcoaching.net/adhdclassroominventions4teachers/">http://www.neverdefeatedcoaching.net/adhdclassroominventions4teachers/</a>&nbsp\;</span></span></span></p>\n
LOCATION:TBA
UID:e.2083.12539
SEQUENCE:3
DTSTAMP:20260422T174730Z
URL:https://business.cmschamber.org/events/details/adhd-classroom-inventions-for-teachers-workshop-12539
END:VEVENT

END:VCALENDAR
