BEGIN:VCALENDAR
VERSION:2.0
PRODID:-//ChamberMaster//Event Calendar 2.0//EN
METHOD:PUBLISH
X-PUBLISHED-TTL:P3D
REFRESH-INTERVAL:P3D
CALSCALE:GREGORIAN
BEGIN:VEVENT
DTSTART:20230119T170000Z
DTEND:20230119T183000Z
X-MICROSOFT-CDO-ALLDAYEVENT:FALSE
SUMMARY:Advanced Email Newsletters and Trends
DESCRIPTION:Now that you have been creating email newsletters\, let's see how you can improve them\, get better engagement and maybe even sell a few of your products or services. Dee Dice\, a Certified Solutions Provider with Constant Contact\, will show you trends and tricks to make them easier and more effective.
X-ALT-DESC;FMTTYPE=text/html:<span style="color:rgb(0\, 0\, 0)\; font-family:lato\,arial\,helvetica\,sans-serif\; font-size:16px">Now that you have been creating email newsletters\, let&rsquo\;s see how you can improve them\, get better engagement and maybe even sell a few of your products or services.&nbsp\;</span><span style="color:rgb(0\, 0\, 255)\; font-family:lato\,arial\,helvetica\,sans-serif\; font-size:16px"><strong><a href="https://constant-growth.com/" style="color: rgb(45\, 119\, 179)\; text-decoration-line: none\;"><span style="color:rgb(0\, 0\, 255)">Dee Dice</span></a></strong></span><span style="color:rgb(0\, 0\, 0)\; font-family:lato\,arial\,helvetica\,sans-serif\; font-size:16px">\, a Certified Solutions Provider with Constant Contact\,&nbsp\;will show you trends and tricks to make them easier and more effective.</span>\n<div>&nbsp\;</div>\n
LOCATION:Zoom
UID:e.2083.14988
SEQUENCE:3
DTSTAMP:20260421T111156Z
URL:https://business.cmschamber.org/events/details/advanced-email-newsletters-and-trends-14988
END:VEVENT

END:VCALENDAR
