BEGIN:VCALENDAR
VERSION:2.0
PRODID:-//ChamberMaster//Event Calendar 2.0//EN
METHOD:PUBLISH
X-PUBLISHED-TTL:P3D
REFRESH-INTERVAL:P3D
CALSCALE:GREGORIAN
BEGIN:VEVENT
DTSTART:20210801T171500Z
DTEND:20210801T204500Z
X-MICROSOFT-CDO-ALLDAYEVENT:FALSE
SUMMARY:Advanced Zentangle
DESCRIPTION:Event Name: Advanced Zentangle Event Date(s): Sunday\, 8/1/2021\, 1:15 PM - 4:45 PM\, 3 hours\, 30 minutes Instructor: Karen Keefe Advanced Zentangle is a 3  hour session for those who have already participated in the Introduction to Zentangle class and are familiar with the basic concepts\, methodology and practices. These sessions will focus on learning more complex tangles\, blending of patterns\, techniques of tangulation and use of various Zentangle tools with different media. Come experiment with more of this mindfulness creativity for a Zentastic time! Supplies and instruction will be provided along with materials for producing additional art at home. The Aug 1st workshop will work with the Zentangle renaissance (tan) art paper along with black\, brown and white ink pens and white charcoal pencil\, using pattern tangulations of Fengle\, Flourish\, Croscrd\, and Pearl Ribbon embellished with zen-gems. Along with being a Certified Zentangle Trainer (CZT)\, Karen Keefe is an organization development consultant specializing in coaching high-performance teams\, management training and leadership development. She holds a MA in Human Resource Development and PhD in Naturology (psychology and natural healing) and is certified as a holistic educator and master trainer. Karen has been an educator for over 40 years and has taught thousands of people dozens of different programs\, but she says the most fun she's ever had training is delivering Zentangle classes. $45 Member Adult\; $60 Adult (Registration includes admission to the Garden) Additional Program Information All materials will be provided. Please note\, there is currently construction happening at Tower Hill\, which may result in altered or obstructed walkways\, parking lots\, or parking spaces\, in addition to some noise.
X-ALT-DESC;FMTTYPE=text/html:Event Name: Advanced Zentangle Event Date(s): Sunday\, 8/1/2021\, 1:15 PM - 4:45 PM\, 3 hours\, 30 minutes Instructor: Karen Keefe Advanced Zentangle is a 3&frac12\; hour session for those who have already participated in the Introduction to Zentangle class and are familiar with the basic concepts\, methodology and practices. These sessions will focus on learning more complex tangles\, blending of patterns\, techniques of tangulation and use of various Zentangle tools with different media. Come experiment with more of this mindfulness creativity for a Zentastic time! Supplies and instruction will be provided along with materials for producing additional art at home. The Aug 1st workshop will work with the Zentangle renaissance (tan) art paper along with black\, brown and white ink pens and white charcoal pencil\, using pattern tangulations of Fengle\, Flourish\, Croscrd\, and Pearl Ribbon embellished with zen-gems. Along with being a Certified Zentangle Trainer (CZT)\, Karen Keefe is an organization development consultant specializing in coaching high-performance teams\, management training and leadership development. She holds a MA in Human Resource Development and PhD in Naturology (psychology and natural healing) and is certified as a holistic educator and master trainer. Karen has been an educator for over 40 years and has taught thousands of people dozens of different programs\, but she says the most fun she&#39\;s ever had training is delivering Zentangle classes. $45 Member Adult\; $60 Adult (Registration includes admission to the Garden) Additional Program Information All materials will be provided. Please note\, there is currently construction happening at Tower Hill\, which may result in altered or obstructed walkways\, parking lots\, or parking spaces\, in addition to some noise.
LOCATION:Tower Hill Botanic Garden 11 French Drive Boylston
UID:e.2083.13042
SEQUENCE:3
DTSTAMP:20260422T103216Z
URL:https://business.cmschamber.org/events/details/advanced-zentangle-08-01-2021-13042
END:VEVENT

END:VCALENDAR
