BEGIN:VCALENDAR
VERSION:2.0
PRODID:-//ChamberMaster//Event Calendar 2.0//EN
METHOD:PUBLISH
X-PUBLISHED-TTL:P3D
REFRESH-INTERVAL:P3D
CALSCALE:GREGORIAN
BEGIN:VEVENT
DTSTART:20221018T170000Z
DTEND:20221018T183000Z
X-MICROSOFT-CDO-ALLDAYEVENT:FALSE
SUMMARY:Advertising on Facebook & Instagram: Part Three
DESCRIPTION:Advertising on social media can be a fantastic way to highlight your business on that platform and channel excited customers to your products and services. But between understanding terminology\, setting targeting and ad budgets\, and figuring out how to make great ads\, social media advertising can be challenging for small businesses and entrepreneurs. If you want help understanding\, setting up\, and creating great ads on Facebook and Instagram\, this webinar is for you!\n\n \n\nJoin expert marketers Julia Becker Collins and Catrina Gardner of Vision Advertising in part three of this three-part webinar\, today with a complete workshop on making your first ad:\n\n \n\n  Join Julia and Catrina with your ad account open to create an ad together.\n\n  Go through the complete process from start to finish.\n\n  Get assistance with any issues while making ads.\n\n  Full Q&A at the end of the session to field more answers.
X-ALT-DESC;FMTTYPE=text/html:<p>Advertising on social media can be a fantastic way to highlight your business on that platform and channel excited customers to your products and services. But between understanding terminology\, setting targeting and ad budgets\, and figuring out how to make great ads\, social media advertising can be challenging for small businesses and entrepreneurs. If you want help understanding\, setting up\, and creating great ads on Facebook and Instagram\, this webinar is for you!</p>\n\n<p>&nbsp\;</p>\n\n<p>Join expert marketers Julia Becker Collins and Catrina Gardner of Vision Advertising in part three of this three-part webinar\, today with a complete workshop on making your first ad:</p>\n\n<p>&nbsp\;</p>\n\n<p>&middot\; Join Julia and Catrina with your ad account open to create an ad together.</p>\n\n<p>&middot\; Go through the complete process from start to finish.</p>\n\n<p>&middot\; Get assistance with any issues while making ads.</p>\n\n<p>&middot\; Full Q&amp\;A at the end of the session to field more answers.</p>\n
LOCATION:Zoom
UID:e.2083.14753
SEQUENCE:3
DTSTAMP:20260421T141730Z
URL:https://business.cmschamber.org/events/details/advertising-on-facebook-instagram-part-three-14753
END:VEVENT

END:VCALENDAR
