BEGIN:VCALENDAR
VERSION:2.0
PRODID:-//ChamberMaster//Event Calendar 2.0//EN
METHOD:PUBLISH
X-PUBLISHED-TTL:P3D
REFRESH-INTERVAL:P3D
CALSCALE:GREGORIAN
BEGIN:VEVENT
DTSTART:20220504T170000Z
DTEND:20220504T183000Z
X-MICROSOFT-CDO-ALLDAYEVENT:FALSE
SUMMARY:Agua4All Virtual Event!
DESCRIPTION:This event will showcase the Rural Community Assistance Partnership (RCAP)'s work providing safe drinking water in schools in rural communities across the United States and will unveil new work funded by Liquid IV. Chris Long from HometownH20 will be making an appearance again this year! RCAP Solutions is the Northeast and Caribbean RCAP affiliate and brought water bottle filling stations to two Massachusetts schools this past year.
X-ALT-DESC;FMTTYPE=text/html:This event will showcase the Rural Community Assistance Partnership (RCAP)&#39\;s work providing safe drinking water in schools in rural communities across the United States and will unveil new work funded by Liquid IV. Chris Long from HometownH20 will be making an appearance again this year! RCAP Solutions is the Northeast and Caribbean RCAP affiliate and brought water bottle filling stations to two Massachusetts schools this past year.
LOCATION:Virtual
UID:e.2083.13900
SEQUENCE:3
DTSTAMP:20260421T215115Z
URL:https://business.cmschamber.org/events/details/agua4all-virtual-event-13900
END:VEVENT

END:VCALENDAR
