BEGIN:VCALENDAR
VERSION:2.0
PRODID:-//ChamberMaster//Event Calendar 2.0//EN
METHOD:PUBLISH
X-PUBLISHED-TTL:P3D
REFRESH-INTERVAL:P3D
CALSCALE:GREGORIAN
BEGIN:VEVENT
DTSTART:20231214T160000Z
DTEND:20231214T164500Z
X-MICROSOFT-CDO-ALLDAYEVENT:FALSE
SUMMARY:AIM HR Solutions Showcase - December
DESCRIPTION:Are HR complexities giving you sleepless nights? Overwhelmed with the escalating demands of employee management\, policy updates\, or workplace compliance? We hear you\, and we are here to help.\n\n\n\nAs a valued AIM member\, you have exclusive access to free tools and discounted HR services from AIM HR Solutions. Whether you've been an AIM member for years or have just recently joined us\, we invite you to explore the specialized services of AIM HR Solutions during this thirty-minute interactive conversation.\n\n\n\nWhy Attend?\n\n \n\n	Expert Guidance: Discover how we can be your ally\, helping you navigating the ever-evolving HR landscape in Massachusetts.\n	Time-Saving Solutions: Learn about the tools and services we offer that can save you time and reduce stress.\n	Future-Ready Partnership: Understand that even if you don't have an immediate need\, being acquainted with our team means you have a ready partner when the need arises.
X-ALT-DESC;FMTTYPE=text/html:<span style="color:rgb(33\, 37\, 41)\; font-family:segoe ui\,helvetica neue\,sans-serif\; font-size:11pt"><span style="font-family:calibri\,sans-serif\; font-size:inherit">Are HR complexities giving you sleepless nights? Overwhelmed with the escalating demands of employee management\, policy updates\, or workplace compliance? We hear you\, and we are here to help.</span></span><br />\n<br />\n<span style="color:rgb(33\, 37\, 41)\; font-family:segoe ui\,helvetica neue\,sans-serif\; font-size:11pt"><span style="font-family:calibri\,sans-serif\; font-size:inherit">As a valued AIM member\, you have exclusive access to free tools and discounted HR services from AIM HR Solutions. Whether you&#39\;ve been an AIM member for years or have just recently joined us\, we invite you to explore the specialized services of AIM HR Solutions during this thirty-minute interactive conversation.</span></span><br />\n<br />\n<span style="color:rgb(33\, 37\, 41)\; font-family:segoe ui\,helvetica neue\,sans-serif\; font-size:11pt"><span style="font-family:calibri\,sans-serif\; font-size:inherit"><span style="font-family:inherit\; font-size:inherit">Why Attend?</span></span></span><br />\n<span style="color:rgb(33\, 37\, 41)\; font-family:segoe ui\,helvetica neue\,sans-serif\; font-size:12px">&nbsp\;</span>\n<ul>\n	<li><span style="font-family:inherit\; font-size:11pt"><span style="font-family:calibri\,sans-serif\; font-size:inherit"><span style="font-family:inherit\; font-size:inherit">Expert Guidance</span>: Discover how we can be your ally\, helping you navigating the ever-evolving HR landscape in Massachusetts.</span></span></li>\n	<li><span style="font-family:inherit\; font-size:11pt"><span style="font-family:calibri\,sans-serif\; font-size:inherit"><span style="font-family:inherit\; font-size:inherit">Time-Saving Solutions</span>: Learn about the tools and services we offer that can save you time and reduce stress.</span></span></li>\n	<li><span style="font-family:inherit\; font-size:11pt"><span style="font-family:calibri\,sans-serif\; font-size:inherit"><span style="font-family:inherit\; font-size:inherit">Future-Ready Partnership</span>: Understand that even if you don&#39\;t have an immediate need\, being acquainted with our team means you have a ready partner when the need arises.</span></span></li>\n</ul>\n
LOCATION:Virtual
UID:e.2083.16860
SEQUENCE:3
DTSTAMP:20260420T152102Z
URL:https://business.cmschamber.org/events/details/aim-hr-solutions-showcase-december-16860
END:VEVENT

END:VCALENDAR
