BEGIN:VCALENDAR
VERSION:2.0
PRODID:-//ChamberMaster//Event Calendar 2.0//EN
METHOD:PUBLISH
X-PUBLISHED-TTL:P3D
REFRESH-INTERVAL:P3D
CALSCALE:GREGORIAN
BEGIN:VEVENT
DTSTART;VALUE=DATE:20200127
DTEND;VALUE=DATE:20200128
TRANSP:TRANSPARENT
X-MICROSOFT-CDO-ALLDAYEVENT:TRUE
SUMMARY:All About Business Financial Statements
DESCRIPTION:You have financial statements for your business--what knowledge can you gain from them? This workshop will provide you with the tools necessary to understand your income statement\, balance sheet and statement of cash flow\; all essential skills for operating a successful business.\n\nWhen: Wednesday\, March 11 from 5:30 PM - 7:30 PM\n\nWhere:\n\nCWE Central MA\n\n69 Milk St.\, Suite 217\n\nWestborough\, MA 01581\n\nFee: $20. Must register to attend. Partial scholarships available for those that qualify\, contact Samantha for a scholarship application. \n\nClick Here to Register
X-ALT-DESC;FMTTYPE=text/html:<p>You have financial statements for your business--what knowledge can you gain from them? This workshop will provide you with the tools necessary to understand your income statement\, balance sheet and statement of cash flow\; all essential skills for operating a successful business.</p>\n\n<p><strong>When:&nbsp\;</strong>Wednesday\, March 11&nbsp\;from 5:30 PM - 7:30 PM</p>\n\n<p><strong>Where:</strong></p>\n\n<p>CWE Central MA<br />\n69 Milk St.\, Suite 217<br />\nWestborough\, MA 01581</p>\n\n<p><strong>Fee:&nbsp\;</strong>$20. Must register to attend. Partial scholarships available for those that qualify\, contact&nbsp\;<a href="mailto:spevear@cweonline.org" style="box-sizing: border-box\; margin: 0px\; padding: 0px\; border: 0px\; font-style: inherit\; font-variant: inherit\; font-weight: 600\; font-stretch: inherit\; font-size: inherit\; line-height: inherit\; font-family: inherit\; vertical-align: baseline\; color: rgb(70\, 102\, 194)\; text-decoration-line: none\; outline: none\; cursor: pointer\; transition: color 0.2s ease-out 0s\, background 0.2s ease-in 0s\, opacity 0.2s ease-out 0s\, border 0.2s ease-out 0s\;">Samantha&nbsp\;</a>for a scholarship application.&nbsp\;</p>\n\n<p><a href="https://www.eventbrite.com/e/cwe-central-ma-all-about-business-financial-statements-tickets-86346236919" style="box-sizing: border-box\; margin: 0px\; padding: 0px\; border: 0px\; font-style: inherit\; font-variant: inherit\; font-weight: 600\; font-stretch: inherit\; font-size: inherit\; line-height: inherit\; font-family: inherit\; vertical-align: baseline\; color: rgb(70\, 102\, 194)\; text-decoration-line: none\; outline: none\; cursor: pointer\; transition: color 0.2s ease-out 0s\, background 0.2s ease-in 0s\, opacity 0.2s ease-out 0s\, border 0.2s ease-out 0s\;">Click Here to Register</a></p>\n
LOCATION:CWE Central MA 69 Milk St.\, Suite 217 Westborough\, MA 01581
UID:e.2083.11777
SEQUENCE:3
DTSTAMP:20260423T162607Z
URL:https://business.cmschamber.org/events/details/all-about-business-financial-statements-11777
END:VEVENT

END:VCALENDAR
