BEGIN:VCALENDAR
VERSION:2.0
PRODID:-//ChamberMaster//Event Calendar 2.0//EN
METHOD:PUBLISH
X-PUBLISHED-TTL:P3D
REFRESH-INTERVAL:P3D
CALSCALE:GREGORIAN
BEGIN:VEVENT
DTSTART:20230119T233000Z
DTEND:20230120T013000Z
X-MICROSOFT-CDO-ALLDAYEVENT:FALSE
SUMMARY:An Evening with Steven the Medium
DESCRIPTION:An Evening with Steven the Medium\n\nThursday\, January 19\, 2023\, from 6:30-8:30pm\n\nThe Winthrop Room at The Barn at Wight Farm\n\n420 Main Street\, Sturbridge\n\nMedium   Attorney   Intuitive   Healer   Radio Host   Teacher \n\nSteven F. Macek better known as Steven the Medium is a nationally renowned medium who has been developing a connection to Spirit for the past ten years. Steven is a bridge between the spirit world and our day-to-day\, physical world relaying messages and insight from those who have passed on to people seeking answers in the here and now.\n\nHave you been missing your loved ones who have passed? Maybe you just need to know they are OK? Please join us for this special event at The Barn at Wight Farm on the evening of January 19th. One simple validation can change your life!\n\nSteven will connect attendees to the spirit world through live readings delivering detailed\, powerful\, and sometimes humorous messages from the other side. In addition\, he will read a number of handwritten notes\, transcribed word-for-word from your loved ones in Spirit to their intended recipients in the audience.\n\nThe Chamber is excited to present this special evening in the beautiful Winthrop Room at The Barn at Wight Farm. The event will include a full bar and Steven will offer two raffles for free readings. Tickets are $39 for Chamber Members and $45 for non-Members.\n\nRegister to save your seat by emailing info@cmschamber.org or calling 508-347-2761.\n\nLEARN MORE ABOUT STEVEN THE MEDIUM\n\nFor most of my life\, I had no idea that I had an ability to communicate with Spirit. There were no great signs during my youth\, except perhaps not wanting to visit my dad's grave. He died when I was eight years old and when I was a teenager\, my mother and brother would get upset when I didn't want to go to the cemetery. In hindsight\, I felt a strong connection with my father I didn't need to go to the cemetery to feel his presence.\n\nIn 2010\, Spirit set me on a path to mediumship when my husband\, Elix\, and I attended an event of a well-known Massachusetts medium. The venue was full\, with over 100 people hoping to be chosen for a reading. When the medium was about to begin\, she walked over to me and said\, "You are a medium but don't know it." She then walked away and never approached me again.\n\nAlthough intrigued\, I didn't act on this information right away. My interest in spirit communication piqued years later when Elix registered me for a mediumship training and encouraged me to simply embrace the learning process and the experience. I loved it immediately! Eager to hone my skills and learn as much as possible\, I worked with some of the world's most well-respected teachers to develop an understanding of my abilities and how to use them. In 2013\, I earned a certification as a medium from the Imagine Spirit Intuitive Arts Institute in Arizona.\n\nThis profession as a medium allows me to fulfill my purpose of helping others in a completely different way than law does. My mission is to connect with those in Spirit to share messages that offer healing\, love\, and guidance. Clients often leave my office with a newfound sense of peace\, connection\, and a distinct clarity that they didn't have before. It's a beautiful thing to see someone change in real-time. Especially when someone is hanging on to grief or some type of burden. Feeling those energies and auras change is the most rewarding aspect of what I do. My mediumship has also led me to help others discover and develop their own psychic abilities\, which is so satisfying.\n\nTwo years ago\, I created my signature "A Whisper in a Note". I ask someone in spirit to stand next to me and dictate to me what they want me to write down for their loved one who is here on earth. I use software to scan the note and include a visual recording explaining every word\, every sentence and emotion their loved one in spirit was feeling when they dictated what I wrote in the note.\n\nIt has been a great\, fulfilling ride and this is just the beginning!\n\nVisit Steven online at www.steventhemedium.com.\n\nWith Gratitude to our sponsor for An Evening with Steven the Medium\n\n \n\nDaniel T. Morrill Funeral Home\n\n \n\nThe Daniel T. Morrill Funeral Home is dedicated to providing services to the families of Southbridge\, Sturbridge\, Charlton Massachusetts and surrounding communities with care and compassion.\n\n \n\nDaniel T. Morrill Funeral Home\, 130 Hamilton Street\, Southbridge\, MA 01550\, (508) 764-7922
X-ALT-DESC;FMTTYPE=text/html:<p><strong><span style="font-size:24px">An Evening with Steven the Medium</span><br />\nThursday\, January 19\, 2023\, from 6:30-8:30pm</strong><br />\n<strong>The Winthrop Room at The Barn at Wight Farm<br />\n420 Main Street\, Sturbridge</strong></p>\n\n<p><span style="font-size:16px"><strong>Medium &middot\; Attorney &middot\; Intuitive &middot\; Healer &middot\; Radio Host &middot\; Teacher&nbsp\;</strong></span></p>\n\n<p>Steven F. Macek&mdash\;better known as Steven the Medium&mdash\;is a nationally renowned medium who has been developing a connection to Spirit for the past ten years. Steven is a bridge between the spirit world and our day-to-day\, physical world&mdash\;relaying messages and insight from those who have passed on to people seeking answers in the here and now.</p>\n\n<p>Have you been missing your loved ones who have passed? Maybe you just need to know they are OK? Please join us for this special event at The Barn at Wight Farm on the evening of January 19th. One simple validation can change your life!</p>\n\n<p>Steven will connect attendees to the spirit world through live readings&mdash\;delivering detailed\, powerful\, and sometimes humorous messages from the other side. In addition\, he will read a number of handwritten notes\, transcribed word-for-word from your loved ones in Spirit to their intended recipients in the audience.</p>\n\n<p>The Chamber is excited to present this special evening in the beautiful Winthrop Room at The Barn at Wight Farm. The event will include a full bar and Steven will offer two raffles for free readings. <strong>Tickets are $39 for Chamber Members and $45 for non-Members.</strong></p>\n\n<p><strong>Register to save your seat by emailing&nbsp\;</strong><a href="mailto:info@cmschamber.org" style="user-select: auto\;"><strong>info@cmschamber.org</strong></a><strong>&nbsp\;or calling 508-347-2761.</strong></p>\n\n<p><strong>LEARN MORE ABOUT STEVEN THE MEDIUM</strong></p>\n\n<p>For most of my life\, I had no idea that I had an ability to communicate with Spirit. There were no great signs during my youth\, except perhaps not wanting to visit my dad&rsquo\;s grave. He died when I was eight years old and when I was a teenager\, my mother and brother would get upset when I didn&rsquo\;t want to go to the cemetery. In hindsight\, I felt a strong connection with my father&mdash\;I didn&rsquo\;t need to go to the cemetery to feel his presence.</p>\n\n<p>In 2010\, Spirit set me on a path to mediumship when my husband\, Elix\, and I attended an event of a well-known Massachusetts medium. The venue was full\, with over 100 people hoping to be chosen for a reading. When the medium was about to begin\, she walked over to me and said\, &ldquo\;You are a medium but don&rsquo\;t know it.&rdquo\; She then walked away and never approached me again.</p>\n\n<p>Although intrigued\, I didn&rsquo\;t act on this information right away. My interest in spirit communication piqued years later when Elix registered me for a mediumship training and encouraged me to simply embrace the learning process and the experience. I loved it immediately! Eager to hone my skills and learn as much as possible\, I worked with some of the world&rsquo\;s most well-respected teachers to develop an understanding of my abilities and how to use them. In 2013\, I earned a certification as a medium from the Imagine Spirit Intuitive Arts Institute in Arizona.</p>\n\n<p>This profession as a medium allows me to fulfill my purpose of helping others in a completely different way than law does. My mission is to connect with those in Spirit to share messages that offer healing\, love\, and guidance. Clients often leave my office with a newfound sense of peace\, connection\, and a distinct clarity that they didn&rsquo\;t have before. It&rsquo\;s a beautiful thing to see someone change in real-time. Especially when someone is hanging on to grief or some type of burden. Feeling those energies and auras change is the most rewarding aspect of what I do. My mediumship has also led me to help others discover and develop their own psychic abilities\, which is so satisfying.</p>\n\n<p>Two years ago\, I created my signature &ldquo\;A Whisper in a Note&rdquo\;. I ask someone in spirit to stand next to me and dictate to me what they want me to write down for their loved one who is here on earth. I use software to scan the note and include a visual recording explaining every word\, every sentence and emotion their loved one in spirit was feeling when they dictated what I wrote in the note.</p>\n\n<p>It has been a great\, fulfilling ride&mdash\;and this is just the beginning!</p>\n\n<p><strong>Visit Steven online at&nbsp\;</strong><a href="https://www.steventhemedium.com/" rel="noopener noreferrer" style="user-select: auto\;" target="_blank"><strong>www.steventhemedium.com</strong></a><strong>.</strong></p>\n\n<div style="text-align:center"><span style="font-size:16px"><strong>With Gratitude to our sponsor for An Evening with Steven the Medium</strong></span><br />\n&nbsp\;</div>\n\n<div style="text-align:center"><span style="font-size:16px"><strong>Daniel T. Morrill Funeral Home</strong></span></div>\n\n<div style="text-align:center">&nbsp\;</div>\n\n<div style="text-align:center"><span style="font-size:16px">The Daniel T. Morrill Funeral Home is dedicated to providing services to the families of Southbridge\, Sturbridge\, Charlton Massachusetts&nbsp\;and surrounding communities with care and compassion.</span></div>\n\n<div style="text-align:center">&nbsp\;</div>\n\n<div style="text-align:center"><a href="https://www.morrillfuneralhome.com/" rel="noopener noreferrer" style="font-size: 16px\; user-select: auto\;" target="_blank">Daniel T. Morrill Funeral Home</a><span style="font-size:16px">\, 130 Hamilton Street\, Southbridge\, MA 01550\, (508) 764-7922</span></div>\n
LOCATION:The Barn at Wight Farm\, Winthrop Room 420 Main Street\, Sturbridge\, MA
UID:e.2083.14953
SEQUENCE:3
DTSTAMP:20260421T092806Z
URL:https://business.cmschamber.org/events/details/an-evening-with-steven-the-medium-14953
END:VEVENT

END:VCALENDAR
