BEGIN:VCALENDAR
VERSION:2.0
PRODID:-//ChamberMaster//Event Calendar 2.0//EN
METHOD:PUBLISH
X-PUBLISHED-TTL:P3D
REFRESH-INTERVAL:P3D
CALSCALE:GREGORIAN
BEGIN:VEVENT
DTSTART:20231206T223000Z
DTEND:20231207T003000Z
X-MICROSOFT-CDO-ALLDAYEVENT:FALSE
SUMMARY:Auburn Chamber Jingle & Mingle 2023
DESCRIPTION:Join the Auburn Chamber of Commerce for our 2023 Jingle & Mingle Holiday Mixer!\n\n\n\nLet's Cheers to the holiday season and bring joy to others in the community by helping us fill a gift card tree to support the tweens and teens at AYFS. You can also join our Holiday Gift Grab (Bring a $25 wrapped gift to participate)!\n\n\n\nThis event is FREE for Auburn Chamber of Commerce members.\n\n\n\n**Please consider gift cards in any denomination from the following places: Target\, Walmart\, Kohl's\, Footlocker\, McDonald's\, XBox\, Dunkin'\, Dick's Sporting Goods\, GameStop\, Claire's\, or Visa credit cards.
X-ALT-DESC;FMTTYPE=text/html:<span style="font-family: arial\; font-size: 14px\; color: rgb(0\, 128\, 0)\;"><strong>Join the Auburn Chamber of Commerce for our 2023 Jingle &amp\; Mingle Holiday Mixer!</strong></span><br />\n<br />\n<span style="color:#000000\;"><span style="font-size:14px\;"><span style="font-family:arial\;">Let&#39\;s Cheers to the holiday season and bring joy to others in the community by helping us fill a gift card tree to support the tweens and teens at AYFS. You can also join our Holiday Gift Grab (</span></span></span><span style="font-size:14px\;"><span style="font-family:arial\;"><span style="color: rgb(0\, 0\, 0)\; font-style: italic\;">Bring a $25 wrapped gift to participate)!</span></span></span><br />\n<br />\n<span style="color:#000000\;"><span style="font-family: arial\; font-size: 14px\;">This event is <strong>FREE</strong> for Auburn Chamber of Commerce members.<br />\n<br />\n**P</span></span><span style="font-size:14px\;"><span style="font-family:arial\;"><span style="color: rgb(0\, 0\, 0)\; text-align: center\; white-space: pre-wrap\;">lease consider gift cards in any denomination&nbsp\;from the following places: </span></span></span><span style="color:#000000\;"><span style="font-family: Arial\, Verdana\, Helvetica\, sans-serif\; font-size: 14px\; text-align: center\; white-space: pre-wrap\;">Target\, Walmart\, Kohl&#39\;s\, Footlocker\, McDonald&#39\;s\, XBox\, Dunkin&#39\;\, Dick&#39\;s Sporting Goods\, GameStop\, Claire&#39\;s\, or Visa credit cards.</span></span><br />\n<br />\n<br />\n<br />\n<br />\n<br />\n<br />\n<br />\n<br />\n<br />\n&nbsp\;
LOCATION:Chuck's Steak House & Margarita Grill Address: 203 Pakachoag Street\, Auburn\, MA 01501
UID:e.2083.15985
SEQUENCE:3
DTSTAMP:20260420T135013Z
URL:https://business.cmschamber.org/events/details/auburn-chamber-jingle-mingle-2023-15985
END:VEVENT

END:VCALENDAR
