BEGIN:VCALENDAR
VERSION:2.0
PRODID:-//ChamberMaster//Event Calendar 2.0//EN
METHOD:PUBLISH
X-PUBLISHED-TTL:P3D
REFRESH-INTERVAL:P3D
CALSCALE:GREGORIAN
BEGIN:VEVENT
DTSTART:20220727T213000Z
DTEND:20220727T233000Z
X-MICROSOFT-CDO-ALLDAYEVENT:FALSE
SUMMARY:Auburn Chamber presents Auburn Business Stories (ABS)
DESCRIPTION:The Auburn Chamber is happy to present a new event:\n\nABS - Auburn BusinessStories\n\n\n\nA new opportunity to hear unique stories from local businesses on how they came to be\, their hurdles\, sacrifices and individual tales\, tricks and/or secrets?And a chance to network with the local business community. At this event we will hear updates from local business leaders from Chuck's Steak House and Edward Jones. Come learn a bit of history and fun facts about these business.
X-ALT-DESC;FMTTYPE=text/html:<p class="_04xlpA direction-ltr align-center para-style-body" line-height:="" style="color: rgb(0\, 0\, 0)\; text-align: center\;" yad7rf0lmm4=""><span style="font-size:14px\;"><span style="font-family:arial\;"><span class="JsGRdQ">The <span style="color:#0000CD\;">Auburn Chamber</span> is happy to present a new event:<br />\n<span style="color:#0000FF\;"><strong>ABS</strong></span> - <strong>A</strong><span style="color:#0000FF\;">uburn</span><strong> B</strong><span style="color:#0000FF\;">usiness</span><strong>S</strong><span style="color:#0000FF\;">tories</span></span></span></span></p>\n\n<p class="_04xlpA direction-ltr align-center para-style-body" line-height:="" style="color: rgb(0\, 0\, 0)\; font-family: " yad7rf0lmm4=""><br />\n<span style="font-size:14px\;"><span style="font-family:arial\;"><span class="JsGRdQ">A new opportunity to hear unique stories from local businesses on how they came to be\, their hurdles\, sacrifices and individual tales\, tricks and/or secrets?And a chance to network with the local business community. At this event we will hear updates from local business leaders from&nbsp\;Chuck&#39\;s Steak House and Edward Jones.<span class="JsGRdQ white-space-prewrap"> </span>Come learn a bit of history and fun facts about these business.</span></span></span></p>\n
LOCATION:Chuck's Steak House 10 Prospect Street Auburn\, MA 01501
UID:e.2083.13969
SEQUENCE:3
DTSTAMP:20260421T202712Z
URL:https://business.cmschamber.org/events/details/auburn-chamber-presents-auburn-business-stories-abs-13969
END:VEVENT

END:VCALENDAR
