BEGIN:VCALENDAR
VERSION:2.0
PRODID:-//ChamberMaster//Event Calendar 2.0//EN
METHOD:PUBLISH
X-PUBLISHED-TTL:P3D
REFRESH-INTERVAL:P3D
CALSCALE:GREGORIAN
BEGIN:VEVENT
DTSTART:20200212T123000Z
DTEND:20200212T140000Z
X-MICROSOFT-CDO-ALLDAYEVENT:FALSE
SUMMARY:Auburn Chamber's Learn your ABCs – Auburn Business
DESCRIPTION:Come and hear about the benefits the Auburn Chamber offers and all about its affiliation with the Worcester Regional Chamber of Commerce. Joining us will be Sharyn Williams\, vice president of marketing and communications\, and Karen Pelletier\, vice president of operations and director of education and workforce development.  They will be discussing their roles in regard to the Chamber and will be able to answer your questions. This is an exciting time to be a member of the Chamber of Commerce.  Come and hear what to expect\, this event is FREE.
X-ALT-DESC;FMTTYPE=text/html:<h5 class="p1" color:="" font-weight:="" helvetica="" line-height:="" style="box-sizing: border-box\; margin: 12px 0px\; padding: 0px\; font-size: 15px\; direction: ltr\; font-family: " text-rendering:=""><span style="font-family:arial\;"><span style="color:black\;"><span style="font-size:10.5pt\;">Come and hear about the benefits the Auburn Chamber offers and all about its affiliation with the Worcester Regional Chamber of Commerce. Joining us will be <strong>Sharyn Williams</strong>\,<em> vice president of marketing and communications</em>\, and <strong>Karen Pelletier</strong>\, <em>vice president of operations and director of education and workforce development</em></span></span></span><span style="font-family:arial\;"><span style="color:black\;"><span style="font-size:10.5pt\;"><em>.</em>&nbsp\; They will be discussing their roles in regard to the Chamber and will be able to answer your questions.&nbsp\;This is an exciting time to be a member of the Chamber of Commerce.&nbsp\; Come and hear what to expect\, <strong>this event is FREE.&nbsp\;</strong></span></span></span><br />\n&nbsp\;</h5>\n
LOCATION:Realtor Association of Central Massachusetts Address: 492 Washington St\, Auburn\, MA 01501
UID:e.2083.10319
SEQUENCE:3
DTSTAMP:20260423T144726Z
URL:https://business.cmschamber.org/events/details/auburn-chamber-s-learn-your-abcs-auburn-business-10319
END:VEVENT

END:VCALENDAR
