BEGIN:VCALENDAR
VERSION:2.0
PRODID:-//ChamberMaster//Event Calendar 2.0//EN
METHOD:PUBLISH
X-PUBLISHED-TTL:P3D
REFRESH-INTERVAL:P3D
CALSCALE:GREGORIAN
BEGIN:VEVENT
DTSTART;VALUE=DATE:20211015
DTEND;VALUE=DATE:20211016
TRANSP:TRANSPARENT
X-MICROSOFT-CDO-ALLDAYEVENT:TRUE
SUMMARY:Auburn Chamber | Scarecrow Your Business
DESCRIPTION:Let's Have Some Fun in 2021!\n\n\n\nThe Auburn Chamber of Commerce invites all local businesses to enter a scarecrow contest that will help bring some cheer to the Auburn Community.\n\n \n\nBuild a scarecrow that best represents your business!\n\n \n- Scarecrows will be displayed at the Auburn Public Library\n\n\n\n- Businesses will be able to set up their displays between  October 15th - 18th\n\n\n\n- Businesses will be required to take down their displays between November 1st ? 6th\n\n\n\n- All participants will be expected to follow social distancing protocols and regulations\n\n\n\n- The Auburn Chamber of Commerce Board of Directors will judge all the submissions and announce the winner in early November\n\n\n\n- Winners will be spotlighted on the Auburn Chamber webpage and on all social media pages
X-ALT-DESC;FMTTYPE=text/html:<div style="text-align: center\;"><span style="font-size:26px\;"><span style="color:#E17C4F\;"><span style="font-family:papyrus\;">Let&#39\;s Have Some Fun in 2021!</span></span></span><br />\n<br />\n<span style="font-size:14px\;"><span style="font-family:arial\;">The Auburn Chamber of Commerce invites all local businesses to enter a scarecrow contest that will help bring some cheer to the Auburn Community.</span></span><br />\n&nbsp\;</div>\n\n<div style="text-align: center\;"><span style="font-size:14px\;"><span style="font-family:arial\;"><strong><span style="color:#C33509\;">Build a scarecrow that best represents your business!</span></strong></span></span><br />\n&nbsp\;</div>\n<span style="font-size:14px\;"><span style="font-family:arial\;">- Scarecrows will be displayed at the Auburn Public Library<br />\n<br />\n- Businesses will be able to set up their displays between &nbsp\;October 15<sup>th </sup>- 18<sup>th</sup><br />\n<br />\n- Businesses will be required to take down their displays between November 1<sup>st</sup> ? 6<sup>th</sup><br />\n<br />\n- All participants will be expected to follow social distancing protocols and regulations<br />\n<br />\n- The Auburn Chamber of Commerce Board of Directors will judge all the submissions and announce the winner in early November<br />\n<br />\n- Winners will be spotlighted on the Auburn Chamber webpage and on all social media pages<br />\n&nbsp\;</span></span>
LOCATION:Auburn Public Library 369 Southbridge Street Auburn\, MA 01501
UID:e.2083.13040
SEQUENCE:3
DTSTAMP:20260422T075128Z
URL:https://business.cmschamber.org/events/details/auburn-chamber-scarecrow-your-business-13040
END:VEVENT

END:VCALENDAR
