BEGIN:VCALENDAR
VERSION:2.0
PRODID:-//ChamberMaster//Event Calendar 2.0//EN
METHOD:PUBLISH
X-PUBLISHED-TTL:P3D
REFRESH-INTERVAL:P3D
CALSCALE:GREGORIAN
BEGIN:VEVENT
DTSTART;VALUE=DATE:20221015
DTEND;VALUE=DATE:20221031
TRANSP:TRANSPARENT
X-MICROSOFT-CDO-ALLDAYEVENT:TRUE
SUMMARY:Auburn Chamber | Scarecrow Your Business 2022
DESCRIPTION:Let's Have Some Fun !\n\n\n\nThe Auburn Chamber of Commerce invites all local businesses to enter a scarecrow contest that will help bring some cheer to the Auburn Community.\n\n \n\nBuild a scarecrow that best represents your business!\n\n \n- Scarecrows will be displayed at Goddard Park at Drury Square.\n\n\n\n- Businesses will be able to set up their displays starting Saturday\, October 15th.\n\n\n\n- Blue numbered markers have been placed at Drury Square in Goddard Park. When your scarecrow is ready\, please set up at Drury Square at the marker of your choice\, and email Mary Mackenzie at mmackenzie@worcesterchamber.org to let us know the marker your business selected so we can appropriately list you on the score sheet.\n\n \n\n- The Auburn Chamber of Commerce Board of Directors will judge all the submissions on Saturday\, November 5 and Sunday\, November 6.\n\n\n\n- Businesses must take down their displays by Friday\, November 11.\n\n\n\n- Winner will be announced in mid-November.\n\n\n\n- Winners will be spotlighted on the Auburn Chamber webpage and on all social media channels.\n\n\n\n- If you have any questions\, please reach out to Mary Mackenzie at mmackenzie@worcesterchamber.org
X-ALT-DESC;FMTTYPE=text/html:<div style="text-align: center\;"><span style="font-size:26px\;"><span style="color:#E17C4F\;"><span style="font-family:papyrus\;">Let&#39\;s Have Some Fun !</span></span></span><br />\n<br />\n<span style="font-size:14px\;"><span style="font-family:arial\;">The Auburn Chamber of Commerce invites all local businesses to enter a scarecrow contest that will help bring some cheer to the Auburn Community.</span></span><br />\n&nbsp\;</div>\n\n<div style="text-align: center\;"><span style="font-size:14px\;"><span style="font-family:arial\;"><strong><span style="color:#C33509\;">Build a scarecrow that best represents your business!</span></strong></span></span><br />\n&nbsp\;</div>\n<span style="font-size:14px\;"><span style="font-family:arial\;">- Scarecrows will be displayed at Goddard Park at Drury Square.<br />\n<br />\n- Businesses will be able to set up their displays starting Saturday\, October 15th.<br />\n<br />\n-&nbsp\;Blue numbered markers have been placed at Drury Square in Goddard Park. When your scarecrow is ready\, please set up at Drury Square at the marker of your choice\, and <strong>email Mary Mackenzie at&nbsp\;<a href="mailto:mmackenzie@worcesterchamber.org">mmackenzie@worcesterchamber.org</a></strong> to let us know the marker your business selected so we can appropriately list you on the score sheet.</span></span><br />\n&nbsp\;<br />\n<span style="font-family: arial\; font-size: 14px\;">- The Auburn Chamber of Commerce Board of Directors will judge all the submissions&nbsp\;</span>on <span style="font-size:14px\;"><span style="font-family:arial\;"><strong>Saturday\,&nbsp\;November 5 and Sunday\, November 6.</strong><br />\n<br />\n- Businesses must take down their displays by <strong>Friday\, November 11.</strong><br />\n<br />\n- Winner will be announced in mid-November.<br />\n<br />\n- Winners will be spotlighted on the Auburn Chamber webpage and on all social media channels.<br />\n<br />\n- If you have any questions\, please reach out to Mary Mackenzie at <a href="mailto:mmackenzie@worcesterchamber.org?subject=2022%20Scarecrow%20Entry"><strong>mmackenzie@worcesterchamber.org</strong></a><br />\n<br />\n<br />\n&nbsp\;</span></span>
LOCATION:Drury Square @ Goddard Park 341-357 Southbridge St\, Auburn\, MA 01501
UID:e.2083.14734
SEQUENCE:3
DTSTAMP:20260421T142513Z
URL:https://business.cmschamber.org/events/details/auburn-chamber-scarecrow-your-business-2022-14734
END:VEVENT

END:VCALENDAR
