BEGIN:VCALENDAR
VERSION:2.0
PRODID:-//ChamberMaster//Event Calendar 2.0//EN
METHOD:PUBLISH
X-PUBLISHED-TTL:P3D
REFRESH-INTERVAL:P3D
CALSCALE:GREGORIAN
BEGIN:VEVENT
DTSTART:20240327T130000Z
DTEND:20240327T143000Z
X-MICROSOFT-CDO-ALLDAYEVENT:FALSE
SUMMARY:Auburn Chamber Seminar Series -SBA 504 Loan Program
DESCRIPTION:Looking for financing for your business to purchase real estate\, land\, construct a new facility or machinery and equipment? The SBA 504 Loan Program is made just for you.\n\n \n\nPlease join the Auburn Chamber of Commerce for a seminar on the SBA's 504 Loan Program with an approved lender\, the Worcester Business Development Corporation (WBDC). The SBA 504 Loan Program is a U.S. Small Business Administration guaranteed loan that provides long-term\, fixed rate financing for small businesses to purchase major fixed assets or refinance debt. \n\n \n\nThe SBA 504 Loan Program provided by the WBDC is an excellent way for small businesses to work with a local CDC lender to expand their business. Borrowers can obtain up to 90% financing with a 25-year fixed rate using the SBA 504 Loan. Learn more details about this great program at our seminar.
X-ALT-DESC;FMTTYPE=text/html:<div class="elementToProof" style="font-size: 16px\; caret-color: rgb(33\, 33\, 33)\; color: rgb(33\, 33\, 33)\; font-family: -apple-system\, HelveticaNeue\; -webkit-text-size-adjust: 100%\;"><span style="font-family: arial\; font-size: 12pt\; color: rgb(51\, 51\, 51)\; line-height: 1.5\;">Looking for financing for your business to purchase real estate\, land\, construct a new facility or machinery and equipment? The SBA 504 Loan Program is made just for you.</span></div>\n\n<div class="elementToProof" style="font-size: 16px\; caret-color: rgb(33\, 33\, 33)\; color: rgb(33\, 33\, 33)\; font-family: -apple-system\, HelveticaNeue\; -webkit-text-size-adjust: 100%\;"><span style="font-family: arial\; font-size: 12pt\; color: rgb(51\, 51\, 51)\; line-height: 1.5\;">&nbsp\;</span></div>\n\n<div class="elementToProof" style="font-size: 16px\; caret-color: rgb(33\, 33\, 33)\; color: rgb(33\, 33\, 33)\; font-family: -apple-system\, HelveticaNeue\; -webkit-text-size-adjust: 100%\;"><span style="font-family: arial\; font-size: 12pt\; color: rgb(51\, 51\, 51)\; line-height: 1.5\;">Please join the Auburn Chamber of Commerce for a seminar on the SBA&rsquo\;s 504 Loan Program with an approved lender\, the Worcester Business Development Corporation (WBDC). The SBA 504 Loan Program is a U.S. Small Business Administration guaranteed loan that provides long-term\, fixed rate financing for small businesses to purchase major fixed assets or refinance debt.&nbsp\;</span></div>\n\n<div class="elementToProof" style="font-size: 16px\; caret-color: rgb(33\, 33\, 33)\; color: rgb(33\, 33\, 33)\; font-family: -apple-system\, HelveticaNeue\; -webkit-text-size-adjust: 100%\;"><span style="font-family: arial\; font-size: 12pt\; color: rgb(51\, 51\, 51)\; line-height: 1.5\;">&nbsp\;</span></div>\n\n<div class="elementToProof" style="font-size: 16px\; caret-color: rgb(33\, 33\, 33)\; color: rgb(33\, 33\, 33)\; font-family: -apple-system\, HelveticaNeue\; -webkit-text-size-adjust: 100%\;"><span style="font-family: arial\; font-size: 12pt\; color: rgb(51\, 51\, 51)\; line-height: 1.5\;">The SBA 504 Loan Program provided by the WBDC is an excellent way for small businesses to work with a local CDC lender to expand their business. Borrowers can obtain up to 90% financing with a 25-year fixed rate using the SBA 504 Loan. Learn more details about this great program at our seminar.</span></div>\n<br style="caret-color: rgb(0\, 0\, 0)\; color: rgb(0\, 0\, 0)\; -webkit-text-size-adjust: auto\;" />\n&nbsp\;
LOCATION:Auburn Public Library 369 Southbridge Street\, Auburn MA
UID:e.2083.17346
SEQUENCE:3
DTSTAMP:20260420T085118Z
URL:https://business.cmschamber.org/events/details/auburn-chamber-seminar-series-sba-504-loan-program-17346
END:VEVENT

END:VCALENDAR
