BEGIN:VCALENDAR
VERSION:2.0
PRODID:-//ChamberMaster//Event Calendar 2.0//EN
METHOD:PUBLISH
X-PUBLISHED-TTL:P3D
REFRESH-INTERVAL:P3D
CALSCALE:GREGORIAN
BEGIN:VEVENT
DTSTART:20221101T113000Z
DTEND:20221101T130000Z
X-MICROSOFT-CDO-ALLDAYEVENT:FALSE
SUMMARY:Auburn Chamber Town Talk
DESCRIPTION:Join us for breakfast and a discussion with Auburn Town Manager Julie Jacobson\, Assistant Town Manager/CFO Ed Kazanovicz\, Chief of Police Todd Lemon\, Deputy Police Chief R. Scott Mills\, Fire Chief Stephen Coleman\, and Deputy Fire Chief Glenn Johnson.\n\nTopics will include:\n\n\n	Accomplishments of the Town of Auburn\n	Plans for 2023 and beyond\n	An Update from the Police & Fire Chief\n\n\nBe part of the conversation to learn about the benefits of doing business in Auburn.
X-ALT-DESC;FMTTYPE=text/html:<p class="_04xlpA direction-ltr align-start para-style-body" line-height:="" style="color: rgb(0\, 0\, 0)\; font-family: " yaddhwydgc8=""><span style="font-size:14px\;"><span style="font-family:arial\;"><span class="JsGRdQ">Join us for breakfast and a discussion with Auburn Town Manager </span><span class="JsGRdQ" style="font-weight: 700\;">Julie Jacobson</span><span class="JsGRdQ">\, </span>Assistant Town Manager/CFO<span class="JsGRdQ">&nbsp\;</span><span class="JsGRdQ" style="font-weight: 700\;">Ed Kazanovicz\, </span><span class="JsGRdQ">Chief of Police </span><span class="JsGRdQ" style="font-weight: 700\;">Todd Lemon\, </span><span class="JsGRdQ">Deputy Police Chief</span><span class="JsGRdQ" style="font-weight: 700\;"> R. Scott Mills\,</span><span class="JsGRdQ"> Fire Chief </span><span class="JsGRdQ" style="font-weight: 700\;">Stephen Coleman\, </span><span class="JsGRdQ">and Deputy Fire Chief </span><span class="JsGRdQ" style="font-weight: 700\;">Glenn Johnson.</span></span></span></p>\n\n<p class="_04xlpA direction-ltr align-start para-style-body" line-height:="" style="color: rgb(0\, 0\, 0)\; font-family: " yaddhwydgc8=""><span style="font-size:14px\;"><span style="font-family:arial\;"><span class="JsGRdQ">Topics will include:</span></span></span></p>\n\n<ul>\n	<li><span style="font-size:14px\;"><span style="font-family:arial\;"><span class="JsGRdQ" style="color: rgb(0\, 0\, 0)\;">Accomplishments of the Town of Auburn</span></span></span></li>\n	<li><span style="font-size:14px\;"><span style="font-family:arial\;"><span class="JsGRdQ" style="color: rgb(0\, 0\, 0)\;">Plans for 2023 and beyond</span></span></span></li>\n	<li><span style="font-size:14px\;"><span style="font-family:arial\;"><span class="JsGRdQ" style="color: rgb(0\, 0\, 0)\;">An Update from the Police &amp\; Fire Chief</span></span></span></li>\n</ul>\n\n<p class="_04xlpA direction-ltr align-start para-style-body" line-height:="" style="color: rgb(0\, 0\, 0)\; font-family: " yaddhwydgc8=""><span style="font-size:14px\;"><span style="font-family:arial\;"><span class="JsGRdQ" style="font-weight: 700\; font-style: italic\;">Be part of the conversation to learn about<span class="JsGRdQ white-space-prewrap" style="font-weight: 700\; font-style: italic\;"> </span>the benefits of doing business in Auburn.</span></span></span></p>\n
LOCATION:Chester P Tuttle Post 279 88 Bancroft St. Auburn\, MA 01501
UID:e.2083.14735
SEQUENCE:3
DTSTAMP:20260421T125630Z
URL:https://business.cmschamber.org/events/details/auburn-chamber-town-talk-14735
END:VEVENT

END:VCALENDAR
