BEGIN:VCALENDAR
VERSION:2.0
PRODID:-//ChamberMaster//Event Calendar 2.0//EN
METHOD:PUBLISH
X-PUBLISHED-TTL:P3D
REFRESH-INTERVAL:P3D
CALSCALE:GREGORIAN
BEGIN:VEVENT
DTSTART:20230506T120000Z
DTEND:20230506T160000Z
X-MICROSOFT-CDO-ALLDAYEVENT:FALSE
SUMMARY:Auburn Town-Wide Clean Up | 2023
DESCRIPTION:The Chamber encourages our residents' and local businesses to be part of this initiative by beautifying their properties on this day.\n\n \n\n"Thank you for your continued work in making Auburn\n\na terrific place to do business. Having a clean area to live\n\nand work is critical in meeting such a standard."\n\n- Joe Salois\, owner/president\, Atlas Distributing\n\n\n\nRegister to Volunteer\n\nor Sponsor the event Here
X-ALT-DESC;FMTTYPE=text/html:<div align="center" style="color: rgb(112\, 110\, 123)\; font-family: Arial\, Verdana\, Helvetica\, sans-serif\; font-size: 14px\; background-color: rgb(209\, 230\, 209)\; text-align: center\;"><br />\n<span font-weight:="" new="" style="font-size: 16px\; color: rgb(0\, 0\, 0)\; font-family: Georgia\, " times="">The Chamber encourages our residents&rsquo\; and local businesses to be part of this initiative by beautifying their properties on this day.</span></div>\n\n<div align="center" style="color: rgb(112\, 110\, 123)\; font-family: Arial\, Verdana\, Helvetica\, sans-serif\; font-size: 14px\; background-color: rgb(209\, 230\, 209)\; text-align: center\;">&nbsp\;</div>\n\n<div align="center" style="color: rgb(112\, 110\, 123)\; font-family: Arial\, Verdana\, Helvetica\, sans-serif\; font-size: 14px\; background-color: rgb(209\, 230\, 209)\; text-align: center\;"><span style="font-size: 18px\; font-style: italic\;">&quot\;Thank you for your continued work in making Auburn</span></div>\n\n<div align="center" style="color: rgb(112\, 110\, 123)\; font-family: Arial\, Verdana\, Helvetica\, sans-serif\; font-size: 14px\; background-color: rgb(209\, 230\, 209)\; text-align: center\;"><span style="font-size: 18px\; font-style: italic\;">a terrific place to do business. Having a clean area to live</span></div>\n\n<div align="center" style="color: rgb(112\, 110\, 123)\; font-family: Arial\, Verdana\, Helvetica\, sans-serif\; font-size: 14px\; background-color: rgb(209\, 230\, 209)\; text-align: center\;"><span style="font-size: 18px\; font-style: italic\;">and work is critical in meeting such a standard.&quot\;</span></div>\n\n<div align="center" style="color: rgb(112\, 110\, 123)\; font-family: Arial\, Verdana\, Helvetica\, sans-serif\; font-size: 14px\; background-color: rgb(209\, 230\, 209)\; text-align: center\;"><span style="font-size: 18px\; font-style: italic\;">- Joe Salois\, owner/president\, Atlas Distributing</span><br />\n<br />\n<span style="font-size:20px\;"><span style="font-family: arial\; text-align: center\; color: rgb(255\, 255\, 255)\;"><span style="background-color: rgb(0\, 0\, 255)\;">Register to Volunteer<br />\nor Sponsor the event </span></span><span style="font-family: arial\; text-align: center\;"><span style="background-color: rgb(0\, 0\, 255)\;"><a href="https://www.auburnchamberma.org/events/cleanup/"><span style="color:#00FF00\;">Here</span></a></span></span></span></div>\n
LOCATION:Town of Auburn Meeting at the Auburn Fire Station in Drury Square 47 Auburn Street Auburn\, Massachusetts 01501
UID:e.2083.15919
SEQUENCE:3
DTSTAMP:20260421T024347Z
URL:https://business.cmschamber.org/events/details/auburn-town-wide-clean-up-2023-15919
END:VEVENT

END:VCALENDAR
