BEGIN:VCALENDAR
VERSION:2.0
PRODID:-//ChamberMaster//Event Calendar 2.0//EN
METHOD:PUBLISH
X-PUBLISHED-TTL:P3D
REFRESH-INTERVAL:P3D
CALSCALE:GREGORIAN
BEGIN:VEVENT
DTSTART:20230623T213000Z
DTEND:20230624T000000Z
X-MICROSOFT-CDO-ALLDAYEVENT:FALSE
SUMMARY:Author Interviews Two Visionaries Who Changed Medical History
DESCRIPTION:Join author Charles Barber with the inventors of the revolutionary clotting agent QuikClot Frank Hursey and Bart Gullong for a book signing\, interview\, and celebration of the publication of Barber's new book In the Blood.\n\nNEW BOOK TELLS FULL STORY OF A LIFE-SAVING MEDICAL MIRACLE THAT CHANGED BATTLEFIELD AND EMERGENCY MEDICINE FOREVER\n\nThe "high-stakes" true story of how an absent-minded inventor and a down-on-his-luck salesman joined forces to create a once-in-a-generation lifesaving product: "Suspenseful storytelling helps us see and feel the struggle and frustration\, the sweat and tears . . . Inspiring" (Robert Kolker\, #1 New York Times bestselling author of Hidden Valley Road).\n\nPre-order your copy of In the Blood using the tickets link below and receive a signed copy during the book signing\, following the author chat and interview with the inventors of QuikClot!\n\nPre-purchase of a book includes admission to the interview event. Seating is limited and will be available on a first-come basis. If the planetarium is full\, overflow seating will be available in the Hirsh Auditorium.\n\n"For hundreds of years\, the mystery of how to stop uncontrolled hemorrhaging could not be solved.\n\nAt the end of the last century\, fifty thousand Americans a year bled to death from traumatic injuries in hospitals\, in traffic accidents\, and as a result of gun violence. The problem of "bleeding out" was also one of the military's top concerns on the battlefield.\n\nToday\, thanks to a clotting agent discovered by a brilliant but obscure inventor in the early 1980s and brought to market by his visionary salesman partner twenty years later\, thousands of lives have been saved in combat and on the streets."
X-ALT-DESC;FMTTYPE=text/html:<p>Join author Charles Barber with the inventors of the revolutionary clotting agent QuikClot Frank Hursey and Bart Gullong for a book signing\, interview\, and celebration of the publication of Barber&rsquo\;s new book&nbsp\;<em>In the Blood</em>.</p>\n\n<p><strong>NEW BOOK TELLS FULL STORY OF A LIFE-SAVING MEDICAL MIRACLE THAT CHANGED BATTLEFIELD AND EMERGENCY MEDICINE FOREVER</strong></p>\n\n<p><em>The &ldquo\;high-stakes&rdquo\; true story of how an absent-minded inventor and a down-on-his-luck salesman joined forces to create a once-in-a-generation lifesaving product: &ldquo\;Suspenseful storytelling helps us see and feel the struggle and frustration\, the sweat and tears . . . Inspiring&rdquo\; (Robert Kolker\, #1 New York Times&nbsp\;bestselling author of&nbsp\;Hidden Valley Road).</em></p>\n\n<p>Pre-order your copy of&nbsp\;<em>In the Blood</em>&nbsp\;using the tickets link below and receive a signed copy during the book signing\, following the author chat and interview with the inventors of QuikClot!</p>\n\n<p><strong>Pre-purchase of a book includes admission to the interview event. Seating is limited and will be available on a first-come basis.&nbsp\;</strong>If the planetarium is full\, overflow seating will be available in the Hirsh Auditorium.</p>\n\n<p>&ldquo\;For hundreds of years\, the mystery of how to stop uncontrolled hemorrhaging could not be solved.</p>\n\n<p>At the end of the last century\, fifty thousand Americans a year bled to death from traumatic injuries in hospitals\, in traffic accidents\, and as a result of gun violence. The problem of &ldquo\;bleeding out&rdquo\; was also one of the military&rsquo\;s top concerns on the battlefield.</p>\n\n<p>Today\, thanks to a clotting agent discovered by a brilliant but obscure inventor in the early 1980s and brought to market by his visionary salesman partner twenty years later\, thousands of lives have been saved in combat and on the streets.&rdquo\;</p>\n
LOCATION:EcoTarium 222 Harrington Way\, Worcester\, MA 01604
UID:e.2083.15981
SEQUENCE:3
DTSTAMP:20260421T004836Z
URL:https://business.cmschamber.org/events/details/author-interviews-two-visionaries-who-changed-medical-history-15981
END:VEVENT

END:VCALENDAR
