BEGIN:VCALENDAR
VERSION:2.0
PRODID:-//ChamberMaster//Event Calendar 2.0//EN
METHOD:PUBLISH
X-PUBLISHED-TTL:P3D
REFRESH-INTERVAL:P3D
CALSCALE:GREGORIAN
BEGIN:VEVENT
DTSTART:20220615T200000Z
DTEND:20220615T230000Z
X-MICROSOFT-CDO-ALLDAYEVENT:FALSE
SUMMARY:Backyard Barbecue Brick Patio Campaign
DESCRIPTION:Join us in our Backyard at 37 Fruit Street and contribute to building a brick patio & garden for our students and clients to enjoy. "Brickets" will include Barbecue & Beverages (beer\, wine\, & non-alcohol) and a single or double brick order you can customize on site. They will become part of the patio & garden.
X-ALT-DESC;FMTTYPE=text/html:Join us in our Backyard at 37 Fruit Street and contribute to building a brick patio &amp\; garden for our students and clients to enjoy. &quot\;Brickets&quot\; will include Barbecue &amp\; Beverages (beer\, wine\, &amp\; non-alcohol) and a single or double brick order you can customize on site. They will become part of the patio &amp\; garden.
LOCATION:59 William/37 Fruit Street Worcester\, MA 01609
UID:e.2083.13905
SEQUENCE:3
DTSTAMP:20260421T202222Z
URL:https://business.cmschamber.org/events/details/backyard-barbecue-brick-patio-campaign-13905
END:VEVENT

END:VCALENDAR
