BEGIN:VCALENDAR
VERSION:2.0
PRODID:-//ChamberMaster//Event Calendar 2.0//EN
METHOD:PUBLISH
X-PUBLISHED-TTL:P3D
REFRESH-INTERVAL:P3D
CALSCALE:GREGORIAN
BEGIN:VEVENT
DTSTART;VALUE=DATE:20200611
DTEND;VALUE=DATE:20200908
TRANSP:TRANSPARENT
X-MICROSOFT-CDO-ALLDAYEVENT:TRUE
SUMMARY:bankHometown $25\,000 Challenge Grant
DESCRIPTION:Take the challenge!\n\nbankHometown President and CEO Robert J. Morton is challenging fellow Chamber members to double the impact of their $25\,000 challenge grant to the Worcester Regional Chamber to help sustain its programs and services in support of local businesses\, including those negatively affected by the COVID-19 pandemic.\n\n\n\nREAD THE FULL PRESS RELEASE\n\nMorton announced the grant in his opening remarks at the June 11 Breakfast Club event. The bank has pledged to match dollar-for-dollar all donations made to the chamber by members of the business community through Labor Day\, up to $25\,000.
X-ALT-DESC;FMTTYPE=text/html:<span style="font-family:arial\;"><span style="font-size:12px\;"><span style="font-size:14px\;"><strong><span style="color:#008000\;">Take the challenge!</span></strong></span><br />\n<span style="color:black\;">bankHometown President and CEO Robert J. Morton is challenging fellow Chamber members to double the impact of their $25\,000 challenge grant to the Worcester Regional Chamber to help sustain its programs and services in support of local businesses\, including those negatively affected by the COVID-19 pandemic.<br />\n<br />\n<a href="https://www.worcesterchamber.org/bankhometown-makes-25000-challenge-grant-worcester-regional-chamber/"><strong>READ THE FULL PRESS RELEASE</strong></a></span><br />\n<span style="color:black\;">Morton announced the grant in his opening remarks at the June 11 Breakfast Club event. The bank has pledged to match dollar-for-dollar all donations made to the chamber by members of the business community through Labor Day\, up to $25\,000.</span></span></span>
LOCATION:
UID:e.2083.12169
SEQUENCE:3
DTSTAMP:20260423T033911Z
URL:https://business.cmschamber.org/events/details/bankhometown-25-000-challenge-grant-12169
END:VEVENT

END:VCALENDAR
