BEGIN:VCALENDAR
VERSION:2.0
PRODID:-//ChamberMaster//Event Calendar 2.0//EN
METHOD:PUBLISH
X-PUBLISHED-TTL:P3D
REFRESH-INTERVAL:P3D
CALSCALE:GREGORIAN
BEGIN:VEVENT
DTSTART:20231024T223000Z
DTEND:20231024T234500Z
X-MICROSOFT-CDO-ALLDAYEVENT:FALSE
SUMMARY:Barbara Kirklauskas '60 InHER Circle Speaker Series
DESCRIPTION:Cultivating Generosity: Building a Culture of Philanthropy & Service\n\n\nTuesday |October 24\, 2023|6:30PM\n\nLocation: Cuvilly Auditorium |Notre Dame Academy | 425 Salisbury Street Worcester MA 01609\n\n\n\nModerator:     Christienne Bik '94 \n\nDirector of Government Relations Fallon Health\; Board Chair\, \n\nYWCA Central MA\n\n\nPanelists:     \n\nJulie Lian McDonald '89        The Juniper Foundation\n\nDanielle Perron Sikonski '04  Why Me/Sherry's House\n\nPaula Robert Bushey '82        The Mustard Seed\n\nElizabeth Condron '00            HopeFound\n\n\nOn Tuesday\, October 24th at 6:30 PM\, Notre Dame Academy looks forward to welcoming five alumnae to the Cuvilly Auditorium stage for a panel discussion: Cultivating Generosity: Building a Culture of Philanthropy and Service.  Our four panelists are Paula Robert Bushy '82\, The Mustard Seed\; Julie Lian McDonald '89\, The Juniper Foundation\; Elizabeth Condron '00\, HopeFound\; and Danielle Perron Sikonski '04 Why Me & Sherry's House.  The discussion will be moderated by Christie Bik '94\, Director of Government Relations at Fallon Heath\, who is also serving as Board Chair for YWCA of Central MA.  The panelists will share their personal journeys and experiences in philanthropy\, emerging trends and innovative approaches in philanthropy\, and the importance of measuring impact.
X-ALT-DESC;FMTTYPE=text/html:<div style="text-align:center"><strong style="font-family:verdana\; font-size:14px">Cultivating Generosity: Building a Culture of Philanthropy &amp\; Service</strong></div>\n<br />\n<span style="font-family:verdana"><strong>Tuesday |October 24\, 2023|6:30PM</strong><br />\n<span style="background-color:transparent\; color:rgb(102\, 102\, 102)">Location: Cuvilly Auditorium </span><strong>|</strong><span style="background-color:transparent\; color:rgb(102\, 102\, 102)">Notre Dame Academy </span><strong>|</strong><span style="background-color:transparent\; color:rgb(102\, 102\, 102)"> 425 Salisbury Street Worcester MA 01609</span><br />\n<br />\n<strong><span style="font-size:12px">Moderator<span style="background-color:transparent\; color:rgb(102\, 102\, 102)">: </span><span style="background-color:transparent\; color:rgb(102\, 102\, 102)">&nbsp\;&nbsp\; &nbsp\;</span><span style="background-color:transparent\; color:rgb(102\, 102\, 102)">Christienne Bik &rsquo\;94&nbsp\;</span></span></strong></span>\n\n<div style="margin-left:72pt"><strong><span style="font-size:12px"><span style="font-family:verdana"><span style="background-color:transparent\; color:rgb(102\, 102\, 102)">Director of Government Relations Fallon Health\; Board Chair\,&nbsp\;</span></span></span></strong></div>\n\n<div style="margin-left:72pt"><strong><span style="font-size:12px"><span style="font-family:verdana"><span style="background-color:transparent\; color:rgb(102\, 102\, 102)">YWCA Central MA</span></span></span></strong></div>\n<br />\n<span style="font-size:12px"><span style="font-family:verdana"><strong>Panelists</strong><span style="background-color:transparent\; color:rgb(102\, 102\, 102)">: </span><span style="background-color:transparent\; color:rgb(102\, 102\, 102)">&nbsp\;&nbsp\; &nbsp\;</span></span></span>\n\n<div style="margin-left:36pt"><strong><span style="font-size:12px"><span style="font-family:verdana"><span style="background-color:transparent\; color:rgb(102\, 102\, 102)">Julie Lian McDonald &rsquo\;89</span><span style="background-color:transparent\; color:rgb(102\, 102\, 102)">&nbsp\;&nbsp\; &nbsp\;</span><span style="background-color:transparent\; color:rgb(102\, 102\, 102)">&nbsp\;&nbsp\; &nbsp\;</span><span style="background-color:transparent\; color:rgb(102\, 102\, 102)">The Juniper Foundation</span></span></span></strong></div>\n\n<div style="margin-left:36pt"><strong><span style="font-size:12px"><span style="font-family:verdana"><span style="background-color:transparent\; color:rgb(102\, 102\, 102)">Danielle Perron Sikonski &rsquo\;04</span><span style="background-color:transparent\; color:rgb(102\, 102\, 102)">&nbsp\;&nbsp\;</span><span style="background-color:transparent\; color:rgb(102\, 102\, 102)">Why Me/Sherry&rsquo\;s House</span></span></span></strong></div>\n\n<div style="margin-left:36pt"><strong><span style="font-size:12px"><span style="font-family:verdana"><span style="background-color:transparent\; color:rgb(102\, 102\, 102)">Paula Robert Bushey &rsquo\;82</span><span style="background-color:transparent\; color:rgb(102\, 102\, 102)">&nbsp\;&nbsp\; &nbsp\;</span><span style="background-color:transparent\; color:rgb(102\, 102\, 102)">&nbsp\;&nbsp\; </span></span></span>&nbsp\;<span style="font-size:12px"><span style="font-family:verdana"><span style="background-color:transparent\; color:rgb(102\, 102\, 102)">The Mustard Seed</span></span></span></strong></div>\n\n<div style="margin-left:36pt"><strong><span style="font-size:12px"><span style="font-family:verdana"><span style="background-color:transparent\; color:rgb(102\, 102\, 102)">Elizabeth Condron &rsquo\;00</span><span style="background-color:transparent\; color:rgb(102\, 102\, 102)">&nbsp\;&nbsp\; &nbsp\;</span><span style="background-color:transparent\; color:rgb(102\, 102\, 102)">&nbsp\;&nbsp\; </span></span></span>&nbsp\;&nbsp\;&nbsp\;&nbsp\;<span style="font-size:12px"><span style="font-family:verdana"><span style="background-color:transparent\; color:rgb(102\, 102\, 102)">&nbsp\;</span><span style="background-color:transparent\; color:rgb(102\, 102\, 102)">HopeFound</span></span></span></strong></div>\n<br />\n<span style="font-size:12px"><span style="font-family:verdana"><span style="background-color:transparent\; color:rgb(102\, 102\, 102)">On Tuesday\, October 24th at 6:30 PM\, Notre Dame Academy looks forward to welcoming five alumnae to the Cuvilly Auditorium stage for a panel discussion: Cultivating Generosity: Building a Culture of Philanthropy and Service.&nbsp\; Our four panelists are Paula Robert Bushy &lsquo\;82\, The Mustard Seed\; Julie Lian McDonald &lsquo\;89\, The Juniper Foundation\; Elizabeth Condron &lsquo\;00\, HopeFound\; and Danielle Perron Sikonski &lsquo\;04 Why Me &amp\; Sherry&rsquo\;s House.&nbsp\; The discussion will be moderated by Christie Bik &rsquo\;94\, Director of Government Relations at Fallon Heath\, who is also serving as Board Chair for YWCA of Central MA.&nbsp\; The panelists will share their personal journeys and experiences in philanthropy\, emerging trends and innovative approaches in philanthropy\, and the importance of measuring impact.&nbsp\;&nbsp\;&nbsp\;&nbsp\;</span></span></span>\n\n<div>&nbsp\;</div>\n
LOCATION:Notre Dame Academy 425 Salisbury Street Worcester MA 01609
UID:e.2083.16705
SEQUENCE:3
DTSTAMP:20260420T171234Z
URL:https://business.cmschamber.org/events/details/barbara-kirklauskas-60-inher-circle-speaker-series-16705
END:VEVENT

END:VCALENDAR
