BEGIN:VCALENDAR
VERSION:2.0
PRODID:-//ChamberMaster//Event Calendar 2.0//EN
METHOD:PUBLISH
X-PUBLISHED-TTL:P3D
REFRESH-INTERVAL:P3D
CALSCALE:GREGORIAN
BEGIN:VEVENT
DTSTART:20230401T140000Z
DTEND:20230401T160000Z
X-MICROSOFT-CDO-ALLDAYEVENT:FALSE
SUMMARY:Beaver Brook Community Cleanup
DESCRIPTION:Join Worcester Green Corps for a Saturday morning spent beautifying our neighborhood! All supplies will be provided\, please wear clothes comfortable for the weather and close-toed shoes.
X-ALT-DESC;FMTTYPE=text/html:Join Worcester Green Corps for a Saturday morning spent beautifying our neighborhood! All supplies will be provided\, please wear clothes comfortable for the weather and close-toed shoes.&nbsp\; &nbsp\;
LOCATION:We will be meeting at Beaver Brook Park\, at the parking lot along Mann Street.
UID:e.2083.15280
SEQUENCE:3
DTSTAMP:20260421T042032Z
URL:https://business.cmschamber.org/events/details/beaver-brook-community-cleanup-15280
END:VEVENT

END:VCALENDAR
